BEGIN:VCALENDAR
PRODID:NingEventWidget-v1
VERSION:2.0
METHOD:PUBLISH
BEGIN:VTIMEZONE
TZID:Europe/London
X-LIC-LOCATION:Europe/London
BEGIN:DAYLIGHT
TZOFFSETFROM:+0000
TZOFFSETTO:+0100
TZNAME:BST
DTSTART:19700329T010000
RRULE:FREQ=YEARLY;BYMONTH=3;BYDAY=-1SU
END:DAYLIGHT
BEGIN:STANDARD
TZOFFSETFROM:+0100
TZOFFSETTO:+0000
TZNAME:GMT
DTSTART:19701025T020000
RRULE:FREQ=YEARLY;BYMONTH=10;BYDAY=-1SU
END:STANDARD
END:VTIMEZONE
BEGIN:VEVENT
UID:4626108:Event:104050
DTSTAMP:20260424T075000Z
SUMMARY:Peal Networking Lunch, Haslemere
DESCRIPTION:Peal Networking Lunch, Haslemere\n\nYou are warmly invited
  to join us for our next monthly networking event.\nThe format of the 
 event is relaxed with both formal and informal networking, and food an
 d wine is provided.  Please feel free to join us from 12 noon onwards
 , but you should note that the 'one minute' presentations will commenc
 e at 12.30pm.\n\nPeal Networking Club is a friendly, flexible and prof
 essional business group that is open to anyone who would like to atten
 d its monthly networking events. We have been running Surrey-based net
 working events in Guildford and Haslemere since August 2004. The event
 s are usually at lunchtime on a Friday.\nOn the day we will provide a 
 list of all attendees, together with their contact details, and a brie
 f description of their business. Peal Networking Club has no attendanc
 e commitments, nor does it have any membership or annual fees. The onl
 y charge made is £25 [if paid a week in advance] to cover the costs o
 f hiring the venue together with a main course and a drink.\nCOST: £2
 5 [if paid a week in advance] to cover the costs of hiring the venue a
 nd refreshments.\nBOOKING: Please CLICK HERE to book\nMAP\nIf the tim
 ing of this event is not right for you - feel free to 'dip in and out'
  of monthly events as suits.\n\nFor more information visit https://net
 workinginsurrey.co.uk/events/peal-networking-lunch-haslemere-8
DTSTART;TZID=Europe/London:20190426T120000
DTEND;TZID=Europe/London:20190426T140000
CATEGORIES:networking, lunch, haslemere
LOCATION:ASK
WEBSITE:
URL:
CONTACT:0203 778 0747
ORGANIZER;CN="Philip Mendonça":https://networkinginsurrey.co.uk/profi
 le/PhilipMendonca
ATTACH;FMTTYPE="image/jpeg":https://storage.ning.com/topology/rest/1.0
 /file/get/654290591?profile=original
ATTENDEE;ROLE=REQ-PARTICIPANT;PARTSTAT=ACCEPTED;RSVP=TRUE;CN="Philip M
 endonça":https://networkinginsurrey.co.uk/profile/PhilipMendonca
ATTENDEE;ROLE=REQ-PARTICIPANT;PARTSTAT=TENTATIVE;RSVP=TRUE;CN="Lizzi B
 utcher":https://networkinginsurrey.co.uk/profile/LizziButcher
END:VEVENT
END:VCALENDAR
