BEGIN:VCALENDAR
PRODID:NingEventWidget-v1
VERSION:2.0
METHOD:PUBLISH
BEGIN:VTIMEZONE
TZID:Europe/London
X-LIC-LOCATION:Europe/London
BEGIN:DAYLIGHT
TZOFFSETFROM:+0000
TZOFFSETTO:+0100
TZNAME:BST
DTSTART:19700329T010000
RRULE:FREQ=YEARLY;BYMONTH=3;BYDAY=-1SU
END:DAYLIGHT
BEGIN:STANDARD
TZOFFSETFROM:+0100
TZOFFSETTO:+0000
TZNAME:GMT
DTSTART:19701025T020000
RRULE:FREQ=YEARLY;BYMONTH=10;BYDAY=-1SU
END:STANDARD
END:VTIMEZONE
BEGIN:VEVENT
UID:4626108:Event:102868
DTSTAMP:20260424T080419Z
SUMMARY:Peal Networking Lunch, Haslemere
DESCRIPTION:Peal Networking Lunch, Haslemere\r\n\r\nYou are warmly inv
 ited to join us for our next monthly networking event.\r\nThe format o
 f the event is relaxed with both formal and informal networking, and f
 ood and wine is provided.  Please feel free to join us from 12 noon o
 nwards, but you should note that the 'one minute' presentations will c
 ommence at 12.30pm.\r\n\r\nPeal Networking Club is a friendly, flexibl
 e and professional business group that is open to anyone who would lik
 e to attend its monthly networking events. We have been running Surrey
 -based networking events in Guildford and Haslemere since August 2004.
  The events are usually at lunchtime on a Friday.\r\nOn the day we wil
 l provide a list of all attendees, together with their contact details
 , and a brief description of their business. Peal Networking Club has 
 no attendance commitments, nor does it have any membership or annual f
 ees. The only charge made is £25 [if paid a week in advance] to cover
  the costs of hiring the venue together with a main course and a drink
 .\r\nCOST: £25 [if paid a week in advance] to cover the costs of hiri
 ng the venue and refreshments.\r\nBOOKING: Please CLICK HERE to book\
 r\nMAP\r\nIf the timing of this event is not right for you - feel free
  to 'dip in and out' of monthly events as suits.\n\nFor more informati
 on visit https://networkinginsurrey.co.uk/events/peal-networking-lunch
 -haslemere-7
DTSTART;TZID=Europe/London:20190215T120000
DTEND;TZID=Europe/London:20190215T140000
CATEGORIES:networking, lunch, haslemere
LOCATION:ASK
WEBSITE:
URL:
CONTACT:0203 778 0747
ORGANIZER;CN="Philip Mendonça":https://networkinginsurrey.co.uk/profi
 le/PhilipMendonca
ATTACH;FMTTYPE="image/jpeg":https://storage.ning.com/topology/rest/1.0
 /file/get/654290591?profile=original
ATTENDEE;ROLE=REQ-PARTICIPANT;PARTSTAT=ACCEPTED;RSVP=TRUE;CN="Philip M
 endonça":https://networkinginsurrey.co.uk/profile/PhilipMendonca
END:VEVENT
END:VCALENDAR
