BEGIN:VCALENDAR
PRODID:NingEventWidget-v1
VERSION:2.0
METHOD:PUBLISH
BEGIN:VTIMEZONE
TZID:Europe/London
X-LIC-LOCATION:Europe/London
BEGIN:DAYLIGHT
TZOFFSETFROM:+0000
TZOFFSETTO:+0100
TZNAME:BST
DTSTART:19700329T010000
RRULE:FREQ=YEARLY;BYMONTH=3;BYDAY=-1SU
END:DAYLIGHT
BEGIN:STANDARD
TZOFFSETFROM:+0100
TZOFFSETTO:+0000
TZNAME:GMT
DTSTART:19701025T020000
RRULE:FREQ=YEARLY;BYMONTH=10;BYDAY=-1SU
END:STANDARD
END:VTIMEZONE
BEGIN:VEVENT
UID:4626108:Event:96148
DTSTAMP:20260424T203849Z
SUMMARY:Peal Networking Lunch, Guildford
DESCRIPTION:Peal Networking Lunch, Guildford\r\n\r\nYou are warmly inv
 ited to join us for our next monthly networking event.\r\nThe format o
 f the event is relaxed with both formal and informal networking, and f
 ood and wine is provided.  Please feel free to join us from 12 noon o
 nwards, but you should note that the 'one minute' presentations will c
 ommence at 12.30pm.\r\nPeal Networking Club is a friendly, flexible an
 d professional business group that is open to anyone who would like to
  attend its monthly networking events. We have been running Surrey-bas
 ed networking events in Guildford and Haslemere since August 2004. The
  events are usually at lunchtime on a Friday.\r\nOn the day we will pr
 ovide a list of all attendees, together with their contact details, an
 d a brief description of their business. Peal Networking Club has no a
 ttendance commitments, nor does it have any membership or annual fees.
  The only charge made is £25 [if paid a week in advance] to cover the
  costs of hiring the venue together with a main course and a drink.\r\
 nCOST: £25 [if paid a week in advance] to cover the costs of hiring t
 he venue and refreshments.\r\nBOOKING: Please CLICK HERE to book\r\nM
 AP\r\nIf the timing of this event is not right for you - feel free to 
 'dip in and out' of monthly events as suits.\n\nFor more information v
 isit https://networkinginsurrey.co.uk/events/peal-networking-lunch-gui
 ldford-5
DTSTART;TZID=Europe/London:20190125T120000
DTEND;TZID=Europe/London:20190125T140000
CATEGORIES:networking, lunch, haslemere
LOCATION:ASK
WEBSITE:
URL:
CONTACT:0203 778 0747
ORGANIZER;CN="Philip Mendonça":https://networkinginsurrey.co.uk/profi
 le/PhilipMendonca
ATTACH;FMTTYPE="image/jpeg":https://storage.ning.com/topology/rest/1.0
 /file/get/654284197?profile=original
ATTENDEE;ROLE=REQ-PARTICIPANT;PARTSTAT=ACCEPTED;RSVP=TRUE;CN="Philip M
 endonça":https://networkinginsurrey.co.uk/profile/PhilipMendonca
END:VEVENT
END:VCALENDAR
