BEGIN:VCALENDAR
PRODID:NingEventWidget-v1
VERSION:2.0
METHOD:PUBLISH
BEGIN:VTIMEZONE
TZID:Europe/London
X-LIC-LOCATION:Europe/London
BEGIN:DAYLIGHT
TZOFFSETFROM:+0000
TZOFFSETTO:+0100
TZNAME:BST
DTSTART:19700329T010000
RRULE:FREQ=YEARLY;BYMONTH=3;BYDAY=-1SU
END:DAYLIGHT
BEGIN:STANDARD
TZOFFSETFROM:+0100
TZOFFSETTO:+0000
TZNAME:GMT
DTSTART:19701025T020000
RRULE:FREQ=YEARLY;BYMONTH=10;BYDAY=-1SU
END:STANDARD
END:VTIMEZONE
BEGIN:VEVENT
UID:4626108:Event:93619
DTSTAMP:20260423T040226Z
SUMMARY:Peal Networking Lunch, Guildford
DESCRIPTION:Peal Networking Lunch, Guildford\n\n\nYou are warmly invit
 ed to join us for our next monthly networking event.\nThe format of th
 e event is relaxed with both formal and informal networking, and food 
 and wine is provided.  Please feel free to join us from 12 noon onwar
 ds, but you should note that the 'one minute' presentations will comme
 nce at 12.30pm.\nPeal Networking Club is a friendly, flexible and prof
 essional business group that is open to anyone who would like to atten
 d its monthly networking events. We have been running Surrey-based net
 working events in Guildford and Haslemere since August 2004. The event
 s are usually at lunchtime on a Friday.\nOn the day we will provide a 
 list of all attendees, together with their contact details, and a brie
 f description of their business. Peal Networking Club has no attendanc
 e commitments, nor does it have any membership or annual fees. The onl
 y charge made is £20 [if paid a week in advance] to cover the costs o
 f hiring the venue and refreshments.\nCOST: £20 [if paid a week in ad
 vance] to cover the costs of hiring the venue and refreshments.\nBOOKI
 NG: Please CLICK HERE to book\nMAP\nIf the timing of this event is no
 t right for you - feel free to 'dip in and out' of monthly events as s
 uits.\n\nFor more information visit https://networkinginsurrey.co.uk/e
 vents/peal-networking-lunch-guildford-4
DTSTART;TZID=Europe/London:20180126T120000
DTEND;TZID=Europe/London:20180126T140000
CATEGORIES:networking, lunch, haslemere
LOCATION:All Bar One
WEBSITE:
URL:
CONTACT:0203 0044779
ORGANIZER;CN="Philip Mendonça":https://networkinginsurrey.co.uk/profi
 le/PhilipMendonca
ATTACH;FMTTYPE="image/jpeg":http://storage.ning.com/topology/rest/1.0/
 file/get/654194732?profile=original
ATTENDEE;ROLE=REQ-PARTICIPANT;PARTSTAT=ACCEPTED;RSVP=TRUE;CN="Philip M
 endonça":https://networkinginsurrey.co.uk/profile/PhilipMendonca
END:VEVENT
END:VCALENDAR
