BEGIN:VCALENDAR
PRODID:NingEventWidget-v1
VERSION:2.0
METHOD:PUBLISH
BEGIN:VTIMEZONE
TZID:Europe/London
X-LIC-LOCATION:Europe/London
BEGIN:DAYLIGHT
TZOFFSETFROM:+0000
TZOFFSETTO:+0100
TZNAME:BST
DTSTART:19700329T010000
RRULE:FREQ=YEARLY;BYMONTH=3;BYDAY=-1SU
END:DAYLIGHT
BEGIN:STANDARD
TZOFFSETFROM:+0100
TZOFFSETTO:+0000
TZNAME:GMT
DTSTART:19701025T020000
RRULE:FREQ=YEARLY;BYMONTH=10;BYDAY=-1SU
END:STANDARD
END:VTIMEZONE
BEGIN:VEVENT
UID:4626108:Event:73845
DTSTAMP:20260425T215343Z
SUMMARY:Peal Networking Lunch, Guildford
DESCRIPTION:Peal Networking Lunch, Guildford\n\nYou are warmly invited
  to join us for our next monthly networking event which will take plac
 e on 18th December 2015 at Guildford Cricket Club.\nThe format of the 
 event is very relaxed with both formal and informal networking, and fo
 od and wine is provided. Â Please feel free to join us from 12 noon on
 wards, but you should note that the 'one minute' presentations will co
 mmence at 12.30pm.\nPeal Networking Club is a friendly, flexible and p
 rofessional business group that is open to anyone who would like to at
 tend its monthly networking events. We have been running Surrey-based 
 networking events in Guildford and Haslemere since August 2004. The ev
 ents are usually at lunchtime on a Friday.\nOn the day we will provide
  a list of all attendees, together with their contact details, and a b
 rief description of their business. Peal Networking Club has no attend
 ance commitments, nor does it have any membership or annual fees. The 
 only charge made is Â£15 [if paid a week in advance] to cover the cost
 s of hiring the venue and refreshments.\nCOST: Â£15 [if paid a week in
  advance] to cover the costs of hiring the venue and refreshments.\nBO
 OKING: Please go toÂ http://pealnetworking.co.uk/guildford-networkingÂ
  to book\nMAPÂ Â Free onsite parking available\nIf the timing of this 
 event is not right for you - feel free to 'dip in and out' of monthly 
 events as suits.\n\n\nFor more information visit https://networkingins
 urrey.co.uk/events/peal-networking-lunch-guildford-1
DTSTART;TZID=Europe/London:20151218T120000
DTEND;TZID=Europe/London:20151218T140000
CATEGORIES:networking, guildford
LOCATION:Guildford Cricket Club
WEBSITE:
URL:
CONTACT:0203 0044779
ORGANIZER;CN="Philip MendonÃ§a":https://networkinginsurrey.co.uk/profi
 le/PhilipMendonca
ATTACH;FMTTYPE="image/jpeg":http://storage.ning.com/topology/rest/1.0/
 file/get/654194732?profile=original
ATTENDEE;ROLE=REQ-PARTICIPANT;PARTSTAT=ACCEPTED;RSVP=TRUE;CN="Philip M
 endonÃ§a":https://networkinginsurrey.co.uk/profile/PhilipMendonca
END:VEVENT
END:VCALENDAR
