BEGIN:VCALENDAR
PRODID:NingEventWidget-v1
VERSION:2.0
METHOD:PUBLISH
BEGIN:VTIMEZONE
TZID:Europe/London
X-LIC-LOCATION:Europe/London
BEGIN:DAYLIGHT
TZOFFSETFROM:+0000
TZOFFSETTO:+0100
TZNAME:BST
DTSTART:19700329T010000
RRULE:FREQ=YEARLY;BYMONTH=3;BYDAY=-1SU
END:DAYLIGHT
BEGIN:STANDARD
TZOFFSETFROM:+0100
TZOFFSETTO:+0000
TZNAME:GMT
DTSTART:19701025T020000
RRULE:FREQ=YEARLY;BYMONTH=10;BYDAY=-1SU
END:STANDARD
END:VTIMEZONE
BEGIN:VEVENT
UID:4626108:Event:256
DTSTAMP:20260425T231352Z
SUMMARY:Peal Networking Club Lunch, Haslemere
DESCRIPTION:Peal Networking Club Lunch, Haslemere Town Hall\n\nPeal Ne
 tworking Club is a friendly, flexible and professional business group 
 that is open to anyone who would like to attend its monthly networking
  events.The format of the event is relaxed with both formal and inform
 al networking, and food and drink will be provided. The only charge ma
 de is £15 to cover the costs of hiring the venue and lunch/drinks.\nY
 ou are warmly invited to attend between 12.00pm and 2.00pm, but you sh
 ould note that the 'one minute' presentations will commence at 12.30pm
 .\n12.00 – 12.30: Informal networking and lunch\n12.30 – 13.15ish:
  One minute presentations, followed by discussion of opportunities and
  announcements\n13.15 – 13.30: Presentation on a topical business ar
 ea\n13.30 onwards: Informal networking\nDIRECTIONS:\n• The Town Hall
  is at the southern end of High Street, Haslemere - the little buildin
 g on the traffic island, just in front of Lloyds TSB\n• Parking: the
  entrance to the nearest car park is reached by turning left immediate
 ly after HSBC bank, which is on Haslemere High Street, about 50 yards 
 north of the Town Hall\nMAP \n\nBOOK HERE Places are limited, and so a
  'first come first served' basis will be used. The first time you book
 , you will need to register with Peal Networking to access the Booking
  Form. On the day we will provide a list of all attendees, together wi
 th their contact details and a brief description of their business. De
 tails of opportunities (that have been put forward by members) will al
 so be shared amongst attendees.\n-------------------------------------
 -----\nPeal Networking Club is run by NiS Member Philip Mendonca. It h
 as no attendance commitments, nor does it have any membership or annua
 l fees. The only charge made is £15 to cover the costs of hiring the 
 venue and lunch/drinks. Please feel free to bring along a guest. If yo
 u would like us to send this invitation to one or more of your colleag
 ues, please send us their name and email address details, and we will 
 be happy to do the rest; alternatively, feel free to forward this mess
 age to any of your contacts who might be interested. Feel free to 'dip
  in and out' of monthly events as suits.\n\nFor more information visit
  https://networkinginsurrey.co.uk/events/peal-networking-club-lunch
DTSTART;TZID=Europe/London:20100423T120000
DTEND;TZID=Europe/London:20100423T141500
CATEGORIES:lunch, haslemere
LOCATION:Haslemere Town Hall
WEBSITE:http://www.pealnetworking.co.uk
URL:http://www.pealnetworking.co.uk
CONTACT:Venue 01428 654305
ORGANIZER:Philip Mendonca
ATTACH;FMTTYPE="image/jpeg":http://storage.ning.com/topology/rest/1.0/
 file/get/2591374423?profile=original
ATTENDEE;ROLE=REQ-PARTICIPANT;PARTSTAT=TENTATIVE;RSVP=TRUE;CN="Lottie 
 Skuthe-Cook":https://networkinginsurrey.co.uk/profile/LottieSkutheCook
END:VEVENT
END:VCALENDAR
