BEGIN:VCALENDAR
PRODID:NingEventWidget-v1
VERSION:2.0
METHOD:PUBLISH
BEGIN:VTIMEZONE
TZID:Europe/London
X-LIC-LOCATION:Europe/London
BEGIN:DAYLIGHT
TZOFFSETFROM:+0000
TZOFFSETTO:+0100
TZNAME:BST
DTSTART:19700329T010000
RRULE:FREQ=YEARLY;BYMONTH=3;BYDAY=-1SU
END:DAYLIGHT
BEGIN:STANDARD
TZOFFSETFROM:+0100
TZOFFSETTO:+0000
TZNAME:GMT
DTSTART:19701025T020000
RRULE:FREQ=YEARLY;BYMONTH=10;BYDAY=-1SU
END:STANDARD
END:VTIMEZONE
BEGIN:VEVENT
UID:4626108:Event:6101
DTSTAMP:20260422T143301Z
SUMMARY:Peal Networking Club Lunch, Guildford
DESCRIPTION:Peal Networking Club Lunch at Guildford Cricket Club\nYou
  are warmly invited to join us for our next monthly networking event w
 hich will take place at Guildford Cricket Club.\nThe format of the eve
 nt will be very relaxed with both formal and informal networking, and 
 food and drink will be provided. You are warmly invited to attend betw
 een 12.00pm and 2.00pm, but you should note that the 'one minute' pres
 entations will commence at 12.30pm.\nPeal Networking Club is a friendl
 y, flexible and professional business group that is open to anyone who
  would like to attend its monthly networking events. We have been runn
 ing Surrey-based networking events in Guildford and Haslemere since Au
 gust 2004. The events are usually at lunchtime on a Friday.\nCLICK HER
 E TO BOOK\nCOST: £15 in advance [or £20 on the day] to cover the cos
 ts of hiring the venue and refreshments.\nIf the timing of this event 
 is not right for you - feel free to 'dip in and out' of monthly events
  as suits.\nOn the day we will provide a list of all attendees, togeth
 er with their contact details, and a brief description of their busine
 ss. Peal Networking Club has no attendance commitments, nor does it ha
 ve any membership or annual fees.\nMAP \n\nFor more information visit
  https://networkinginsurrey.co.uk/events/peal-networking-club-lunch-7
DTSTART;TZID=Europe/London:20110428T120000
DTEND;TZID=Europe/London:20110428T140000
CATEGORIES:lunch, guildford, peal_networking
LOCATION:Guildford Cricket Club GU1 4RP
WEBSITE:http://www.pealnetworking.co.uk/guildford-networking.
URL:http://www.pealnetworking.co.uk/guildford-networking.
CONTACT:
ORGANIZER:Phiip Mendonca
ATTACH;FMTTYPE="image/jpeg":http://storage.ning.com/topology/rest/1.0/
 file/get/180259316?profile=original
ATTENDEE;ROLE=REQ-PARTICIPANT;PARTSTAT=TENTATIVE;RSVP=TRUE;CN="Keith G
 rover, NiS Founder":https://networkinginsurrey.co.uk/profile/KeithGrov
 er
END:VEVENT
END:VCALENDAR
