BEGIN:VCALENDAR
PRODID:NingEventWidget-v1
VERSION:2.0
METHOD:PUBLISH
BEGIN:VTIMEZONE
TZID:Europe/London
X-LIC-LOCATION:Europe/London
BEGIN:DAYLIGHT
TZOFFSETFROM:+0000
TZOFFSETTO:+0100
TZNAME:BST
DTSTART:19700329T010000
RRULE:FREQ=YEARLY;BYMONTH=3;BYDAY=-1SU
END:DAYLIGHT
BEGIN:STANDARD
TZOFFSETFROM:+0100
TZOFFSETTO:+0000
TZNAME:GMT
DTSTART:19701025T020000
RRULE:FREQ=YEARLY;BYMONTH=10;BYDAY=-1SU
END:STANDARD
END:VTIMEZONE
BEGIN:VEVENT
UID:4626108:Event:3207
DTSTAMP:20260425T120613Z
SUMMARY:Peal Networking Club Lunch, Guildford
DESCRIPTION:\nPeal Networking Club is a friendly, flexible and profess
 ional business group that is open to anyone who would like to attend i
 ts monthly networking events.The format of the event is relaxed with b
 oth formal and informal networking, and food and drink will be provide
 d. The only charge made is £15 to cover the costs of hiring the venue
  and lunch/drinks.\nYou are warmly invited to attend between 12.00pm a
 nd 2.00pm, but you should note that the 'one minute' presentations wil
 l commence at 12.30pm. On the day we will provide a list of all attend
 ees, together with their contact details and a brief description of th
 eir business. Details of opportunities (that have been put forward by 
 members) will also be shared amongst attendees\n12.00 – 12.30: Infor
 mal networking and lunch\n12.30 – 13.15ish: One minute presentations
 , followed by discussion of opportunities and announcements\n13.15 –
  13.30: Presentation on a topical business area\n13.30 onwards: Inform
 al networking\nCOST: £15 in advance OR £20 on the day \nBOOK HERE Pl
 aces are limited, and so a 'first come first served' basis will be use
 d. The first time you book, you will need to register (no charge) with
  Peal Networking to access the Booking Form.\nMAP\nDIRECTIONS:The venu
 e is Shalford Village Hall (the Minor Hall), and free parking is avail
 able on site. The address is Kings Road (A248), Shalford, Guildford, S
 urrey GU4 8JA and brief directions are as follows: Proceed from Guildf
 ord centre on the A281 in a south easterly direction. A couple of mile
 s from Guildford centre, you will pass Shalford train station on your 
 left hand side, and immediately come to a roundabout – turn left at 
 this roundabout onto Kings Road / A248. You will shortly pass a Post O
 ffice on your left; take the first right about 300 yards later, which 
 is sign posted ‘Shalford Village Hall’.\n-------------------------
 -----------------\nPeal Networking Club has no attendance commitments,
  nor does it have any membership or annual fees. The only charge made 
 is £15 to cover the costs of hiring the venue and lunch/drinks. Pleas
 e feel free to bring along a guest. If you would like us to send this 
 invitation to one or more of your colleagues, please send us their nam
 e and email address details, and we will be happy to do the rest. Feel
  free to 'dip in and out' of monthly events as suits.\nPeal Networking
  Club allocates £1 of each event fee received to charities. We are co
 mmitted to supporting less well known local and overseas charities, as
  nominated by members. As at 31st October 2009, donations of £100 eac
 h were made to the following charities: October 2007: The Ben Williams
  Trust [proposed by Paul Grimwood] March 2008: The Kenyan Orphan Proje
 ct [proposed by Ian Leslie]\nJune 2008: All Bengal Women's Union Home,
  which looks after displaced girls and women [proposed by Susan Shaw]\
 nNovember 2008: The Lifetrain Trust [proposed by Andrew Sales]\nMay 20
 09: Hospice Services at Home TLC [proposed by Peter Searight]\n\nFor m
 ore information visit https://networkinginsurrey.co.uk/events/peal-net
 working-club-lunch-3
DTSTART;TZID=Europe/London:20100723T120000
DTEND;TZID=Europe/London:20100723T140000
CATEGORIES:lunch, guildford, peal_networking
LOCATION:Shalford Village Hall, Shalford, Guildford GU4 8JA
WEBSITE:http://www.pealnetworking.co.uk
URL:http://www.pealnetworking.co.uk
CONTACT:
ORGANIZER:Philip Mendonca
ATTACH;FMTTYPE="image/jpeg":http://storage.ning.com/topology/rest/1.0/
 file/get/180259316?profile=original
ATTENDEE;ROLE=REQ-PARTICIPANT;PARTSTAT=ACCEPTED;RSVP=TRUE;CN="Derek Wi
 lliamson":https://networkinginsurrey.co.uk/profile/DerekWilliamson
END:VEVENT
END:VCALENDAR
