BEGIN:VCALENDAR
PRODID:NingEventWidget-v1
VERSION:2.0
METHOD:PUBLISH
BEGIN:VTIMEZONE
TZID:Europe/London
X-LIC-LOCATION:Europe/London
BEGIN:DAYLIGHT
TZOFFSETFROM:+0000
TZOFFSETTO:+0100
TZNAME:BST
DTSTART:19700329T010000
RRULE:FREQ=YEARLY;BYMONTH=3;BYDAY=-1SU
END:DAYLIGHT
BEGIN:STANDARD
TZOFFSETFROM:+0100
TZOFFSETTO:+0000
TZNAME:GMT
DTSTART:19701025T020000
RRULE:FREQ=YEARLY;BYMONTH=10;BYDAY=-1SU
END:STANDARD
END:VTIMEZONE
BEGIN:VEVENT
UID:4626108:Event:36344
DTSTAMP:20260421T233930Z
SUMMARY:Peal Networking Club Lunch, Guildford
DESCRIPTION:Peal Networking Club Lunch at The Boatman\n\nYou are warm
 ly invited to join us for our next monthly networking event which will
  take place on 25 November at The Boatman, Guildford.\nThe format of 
 the event is relaxed with both formal and informal networking, and foo
 d and drink will be provided.  You are warmly invited to attend betwe
 en 12.00pm and 2.00pm, but you should note that the 'one minute' prese
 ntations will commence at 12.30pm.\nPeal Networking Club is a friendly
 , flexible and professional business group that is open to anyone who 
 would like to attend its monthly networking events. We have been runni
 ng Surrey-based networking events in Guildford and Haslemere since Aug
 ust 2004. The events are usually at lunchtime on a Friday.\nOn the day
  we will provide a list of all attendees, together with their contact 
 details, and a brief description of their business.  Peal Networking 
 Club has no attendance commitments, nor does it have any membership or
  annual fees.  The only charge made is £15 in advance [or £20 on th
 e day] to cover the costs of hiring the venue and refreshments.\n \nC
 OST: £15 in advance [or £20 on the day] to cover the costs of hiring
  the venue and refreshments.\nPLEASE CLICK HERE TO BOOK\nMAP \n \nIf
  the timing of this event is not right for you - feel free to 'dip in 
 and out' of monthly events as suits.\n--------------------------------
 ----------\nPeal Networking meetings provide a combination of informal
  and formal networking in a relaxed environment.  Members are free to
  ‘dip in and out’ as suits their diaries. There are no attendance
  commitments, nor are there any joining or annual fees. Three's a sma
 ll charge made to cover the cost of hiring the venue and providing lun
 ch and refreshments.\n\nFor more information visit https://networkingi
 nsurrey.co.uk/events/peal-networking-club-guildford-event
DTSTART;TZID=Europe/London:20111125T120000
DTEND;TZID=Europe/London:20111125T140000
CATEGORIES:lunch, guildford, peal_networking
LOCATION:The Boatman GU1 3XJ
WEBSITE:
URL:
CONTACT:01428 644896
ORGANIZER;CN="Philip Mendonça":https://networkinginsurrey.co.uk/profi
 le/PhilipMendonca
ATTACH;FMTTYPE="image/jpeg":http://storage.ning.com/topology/rest/1.0/
 file/get/180259316?profile=original
ATTENDEE;ROLE=REQ-PARTICIPANT;PARTSTAT=ACCEPTED;RSVP=TRUE;CN="Philip M
 endonça":https://networkinginsurrey.co.uk/profile/PhilipMendonca
END:VEVENT
END:VCALENDAR
