BEGIN:VCALENDAR
PRODID:NingEventWidget-v1
VERSION:2.0
METHOD:PUBLISH
BEGIN:VTIMEZONE
TZID:Europe/London
X-LIC-LOCATION:Europe/London
BEGIN:DAYLIGHT
TZOFFSETFROM:+0000
TZOFFSETTO:+0100
TZNAME:BST
DTSTART:19700329T010000
RRULE:FREQ=YEARLY;BYMONTH=3;BYDAY=-1SU
END:DAYLIGHT
BEGIN:STANDARD
TZOFFSETFROM:+0100
TZOFFSETTO:+0000
TZNAME:GMT
DTSTART:19701025T020000
RRULE:FREQ=YEARLY;BYMONTH=10;BYDAY=-1SU
END:STANDARD
END:VTIMEZONE
BEGIN:VEVENT
UID:4626108:Event:106241
DTSTAMP:20260424T094133Z
SUMMARY:FREE WordPress and Digital Marketing Lunchtime Clinics, Oxted
DESCRIPTION:Oxted Digital Marketing Knowledge Clinics at The Old Bell\
 r\n\r\nOxted WordPress & Digital Marketing Clinics\r\nAre you marching
  forwards with your Website?\r\nIs it time to step forward and create 
 a new direction for your WordPress Website and Digital Marketing?\r\nO
 r is it time to change the marching direction of your existing WordPre
 ss Website by using SEO and other Digital Marketing techniques so more
  people can find and connect with your WordPress Website at ease.\r\nI
 ’m enthused to announce the launch of my new complimentary Oxted Wor
 dPress and Oxted Digital Marketing Knowledge Clinics to help you and y
 our business truly march forwards in the right direction.\r\nWhether y
 ou are an individual just starting out, an entrepreneur or an establis
 hed business march into my Oxted WordPress Website and Oxted Digital M
 arketing Knowledge Clinics where you can be on parade and ask any ques
 tions about your WordPress Website and Digital Marketing journey.\r\nT
 he event is run by me, Alex Ramsden owner and founder of Web Motivatio
 n your Digital Marketing hub. I have had a background in digital marke
 ting for over 14 years. Having set up my own successful online busines
 ses whilst at University, and working for the likes of Microsoft, AXA 
 and KPMG in the world of digital marketing I have been running my own 
 successful digital marketing business for over 7 years now, empowering
  individuals, entrepreneurs and businesses to improve their internet m
 arketing.\r\nBook your complimentary ticket today, put your questions 
 together and simply bring them to me for my clinic.\r\nLimited availab
 ility. Please book in advance. There are a maximum of 5 places availab
 le on the day! Network, chat and share knowledge with like minded entr
 epreneurs and business owners who also want to develop their WordPress
  and Digital Marketing knowledge.\r\nCOST: FREE  (booking essential
  please!)\r\nBOOKING: Please CLICK HERE to register for your free p
 lace\r\nMAP\r\nPlenty of parking available at the venue!!\n\nFor more 
 information visit https://networkinginsurrey.co.uk/events/oxted-wordpr
 ess-amp-oxted-digital-marketing-knowledge-clinics
DTSTART;TZID=Europe/London:20190327T130000
DTEND;TZID=Europe/London:20190327T143000
CATEGORIES:wordpress, digital, marketing, knowledge, clinics, networki
 ng
LOCATION:The Old Bell RH8 9LP
WEBSITE:https://www.eventbrite.co.uk/e/croydon-wordpress-croydon-digit
 al-marketing-knowledge-clinics-tickets-58361380460?utm-medium=discover
 y&amp;amp;amp;amp;amp;amp;amp;amp;amp;amp;amp;utm-campaign=social&amp;
 amp;amp;amp;amp;amp;amp;amp;amp;amp;amp;utm-content=attendeeshare&amp;
 amp;amp;amp;amp;amp;amp;amp;amp;amp;amp;aff=escb&amp;amp;amp;amp;amp;a
 mp;amp;amp;amp;amp;amp;utm-source=cp&amp;amp;amp;amp;amp;amp;amp;amp;a
 mp;amp;amp;utm-term=eventcard
URL:https://www.eventbrite.co.uk/e/croydon-wordpress-croydon-digital-m
 arketing-knowledge-clinics-tickets-58361380460?utm-medium=discovery&am
 p;amp;amp;amp;amp;amp;amp;amp;amp;amp;amp;utm-campaign=social&amp;amp;
 amp;amp;amp;amp;amp;amp;amp;amp;amp;utm-content=attendeeshare&amp;amp;
 amp;amp;amp;amp;amp;amp;amp;amp;amp;aff=escb&amp;amp;amp;amp;amp;amp;a
 mp;amp;amp;amp;amp;utm-source=cp&amp;amp;amp;amp;amp;amp;amp;amp;amp;a
 mp;amp;utm-term=eventcard
CONTACT:020 3637 8266
ORGANIZER;CN="Alex Ramsden":https://networkinginsurrey.co.uk/profile/A
 lexRamsden
ATTACH;FMTTYPE="image/jpeg":https://storage.ning.com/topology/rest/1.0
 /file/get/1592502200?profile=original
ATTENDEE;ROLE=REQ-PARTICIPANT;PARTSTAT=ACCEPTED;RSVP=TRUE;CN="Alex Ram
 sden":https://networkinginsurrey.co.uk/profile/AlexRamsden
END:VEVENT
END:VCALENDAR
