BEGIN:VCALENDAR
PRODID:NingEventWidget-v1
VERSION:2.0
METHOD:PUBLISH
BEGIN:VTIMEZONE
TZID:Europe/London
X-LIC-LOCATION:Europe/London
BEGIN:DAYLIGHT
TZOFFSETFROM:+0000
TZOFFSETTO:+0100
TZNAME:BST
DTSTART:19700329T010000
RRULE:FREQ=YEARLY;BYMONTH=3;BYDAY=-1SU
END:DAYLIGHT
BEGIN:STANDARD
TZOFFSETFROM:+0100
TZOFFSETTO:+0000
TZNAME:GMT
DTSTART:19701025T020000
RRULE:FREQ=YEARLY;BYMONTH=10;BYDAY=-1SU
END:STANDARD
END:VTIMEZONE
BEGIN:VEVENT
UID:4626108:Event:35220
DTSTAMP:20260421T221114Z
SUMMARY:Online Marketing & Networking: Croydon
DESCRIPTION:Croydon Ecademy at Chefs Restaurant\n\nA friendly and info
 rmal networking event with buffet and speaker. Bar drinks also availab
 le until 9pm.\n24 November 2011: An overview of Internet Marketing wit
 h Simon Cripps of AcVita. \nArrive from 6.30pm for buffet food in th
 e bar area and informal networking. Speaker/workshop for up to an hour
  from approx 7.30pm, followed by more informal networking.\nCOST: (£1
 0 regular) £5 ONLY for all new attendees, if you've not been for a ye
 ar or if you bring a guest.\nPLEASE CLICK HERE TO BOOK\nMAP\nVENUE \
 nLocated at the Croydon College with entrance on Park Lane, Chefs cons
 ists of a Restaurant, a main kitchen and a Coffee Bar\n\n\n\nFor more 
 information visit https://networkinginsurrey.co.uk/events/online-marke
 ting-networking-croydon
DTSTART;TZID=Europe/London:20111124T183000
DTEND;TZID=Europe/London:20111124T210000
CATEGORIES:networking, business, development, workshop, online, market
 ing, seo, website, keywords, internet
LOCATION:Chefs Restaurant, Croydon College CR9 1DX
WEBSITE:http://bit.ly/CroydonEcademyGroup
URL:http://bit.ly/CroydonEcademyGroup
CONTACT:07900 806571
ORGANIZER:Wendy Ager, Get Better Coaching
ATTACH;FMTTYPE="image/jpeg":http://storage.ning.com/topology/rest/1.0/
 file/get/2591391183?profile=original
ATTENDEE;ROLE=REQ-PARTICIPANT;PARTSTAT=ACCEPTED;RSVP=TRUE;CN="Wendy Ag
 er":https://networkinginsurrey.co.uk/profile/WendyAger
END:VEVENT
END:VCALENDAR
