BEGIN:VCALENDAR
PRODID:NingEventWidget-v1
VERSION:2.0
METHOD:PUBLISH
BEGIN:VTIMEZONE
TZID:Europe/London
X-LIC-LOCATION:Europe/London
BEGIN:DAYLIGHT
TZOFFSETFROM:+0000
TZOFFSETTO:+0100
TZNAME:BST
DTSTART:19700329T010000
RRULE:FREQ=YEARLY;BYMONTH=3;BYDAY=-1SU
END:DAYLIGHT
BEGIN:STANDARD
TZOFFSETFROM:+0100
TZOFFSETTO:+0000
TZNAME:GMT
DTSTART:19701025T020000
RRULE:FREQ=YEARLY;BYMONTH=10;BYDAY=-1SU
END:STANDARD
END:VTIMEZONE
BEGIN:VEVENT
UID:4626108:Event:525792
DTSTAMP:20260420T230246Z
SUMMARY:FREE Omni Local Evening Speed Networking Hour
DESCRIPTION:FREE Omni Local Evening Speed Networking Hour\r\nThe NeedÂ
   for SPEED!\r\nZoom Speed Networking with Omni is fast, furious and f
 un...\r\nIn the space of just one hour, you'll have a series of 1-2-1 
 meetings with at least ten people - we don't hang around!Â \r\nTo join
  this meetingÂ on the day, pleaseÂ visit Zoom here...Â and enter theÂ 
 Meeting ID and passwordÂ you will receive once you have paid and reser
 ved your place.\r\nTo save time in advance please download theÂ Zoom A
 pp here...Â \r\nCOST: FREE\r\nBOOKING: PleaseÂ REGISTER to take part h
 ere...Â \r\n--------------------------------------\r\nFind more Omni L
 ocal Networking GroupsÂ here on NiS...\r\nFor more information, please
  visit theÂ Omni Local website here...\n\nFor more information visit h
 ttps://networkinginsurrey.co.uk/events/omni-local-speed-networking-hou
 r
DTSTART;TZID=Europe/London:20210324T183000
DTEND;TZID=Europe/London:20210324T193000
CATEGORIES:evening, speed, omni
LOCATION:Online only
WEBSITE:http://omnilocalbusinessnetworking.com/
URL:http://omnilocalbusinessnetworking.com/
CONTACT:07898 870 870
ORGANIZER;CN="John Gower":https://networkinginsurrey.co.uk/profile/Joh
 n
ATTACH;FMTTYPE="image/jpeg":https://storage.ning.com/topology/rest/1.0
 /file/get/8659779477?profile=original
ATTENDEE;ROLE=REQ-PARTICIPANT;PARTSTAT=ACCEPTED;RSVP=TRUE;CN="John Gow
 er":https://networkinginsurrey.co.uk/profile/John
END:VEVENT
END:VCALENDAR
