BEGIN:VCALENDAR
PRODID:NingEventWidget-v1
VERSION:2.0
METHOD:PUBLISH
BEGIN:VTIMEZONE
TZID:Europe/London
X-LIC-LOCATION:Europe/London
BEGIN:DAYLIGHT
TZOFFSETFROM:+0000
TZOFFSETTO:+0100
TZNAME:BST
DTSTART:19700329T010000
RRULE:FREQ=YEARLY;BYMONTH=3;BYDAY=-1SU
END:DAYLIGHT
BEGIN:STANDARD
TZOFFSETFROM:+0100
TZOFFSETTO:+0000
TZNAME:GMT
DTSTART:19701025T020000
RRULE:FREQ=YEARLY;BYMONTH=10;BYDAY=-1SU
END:STANDARD
END:VTIMEZONE
BEGIN:VEVENT
UID:4626108:Event:140577
DTSTAMP:20260423T210343Z
SUMMARY:POSTPONED - Omni Local Lunch, Camberley
DESCRIPTION:This week's meeting will not go ahead as planned...\r\nPro
 blems with our venue mean that sadly we won't be meeting for lunch tod
 ay.\r\nWe'll be back soon with a great new venue and the usual OMNI tr
 appings! See you then...\r\n\n\nFor more information visit https://net
 workinginsurrey.co.uk/events/omni-local-lunch-camberley-6
DTSTART;TZID=Europe/London:20190524T123000
DTEND;TZID=Europe/London:20190524T143000
CATEGORIES:lunch, camberley, b2b, omni
LOCATION:The Rose and Thistle GU16 6HT
WEBSITE:
URL:
CONTACT:
ORGANIZER:Peter Bolton and Tim North
ATTACH;FMTTYPE="image/jpeg":http://storage.ning.com/topology/rest/1.0/
 file/get/250470414?profile=original
ATTENDEE;ROLE=REQ-PARTICIPANT;PARTSTAT=ACCEPTED;RSVP=TRUE;CN="John Gow
 er":https://networkinginsurrey.co.uk/profile/John
END:VEVENT
END:VCALENDAR
