BEGIN:VCALENDAR
PRODID:NingEventWidget-v1
VERSION:2.0
METHOD:PUBLISH
BEGIN:VTIMEZONE
TZID:Europe/London
X-LIC-LOCATION:Europe/London
BEGIN:DAYLIGHT
TZOFFSETFROM:+0000
TZOFFSETTO:+0100
TZNAME:BST
DTSTART:19700329T010000
RRULE:FREQ=YEARLY;BYMONTH=3;BYDAY=-1SU
END:DAYLIGHT
BEGIN:STANDARD
TZOFFSETFROM:+0100
TZOFFSETTO:+0000
TZNAME:GMT
DTSTART:19701025T020000
RRULE:FREQ=YEARLY;BYMONTH=10;BYDAY=-1SU
END:STANDARD
END:VTIMEZONE
BEGIN:VEVENT
UID:4626108:Event:123913
DTSTAMP:20260424T063200Z
SUMMARY:Omni Local Lunch, Camberley - EVENT POSTPONED
DESCRIPTION:Sorry - we've had to CANCEL our Business Lunch at The Rose
  and Thistle\r\nWe'll be back on 10 May!\r\nIf you own your own busine
 ss or work in an environment where you need to find long term new clie
 nts or customers then you have found an easy way to do this!\r\nCome a
 nd meet the Omni Camberley Team: Peter Bolton & Lady Gil Marston-Hayn
 es. We get booked up in advance, so please reserve your place early!!!
 \r\nMEETING FORMAT -\r\n12.15 - Open Networking & Registration Best to
  get there early! 12.30 - Buffet-style lunch Opening of the meeting fr
 om the Group Director 12:40 - Start 1 Minute Round  13:00 - 1-2-1 Mee
 ting Set Up  Pick someone you might need to help your business or who 
 can help yours! 13:10 - Pitch Platform from an Omni Member & Question
  Time (If you want to do this, you must be a member) 13.25- Start 1-2
 -1 Meeting  Please remember this a chance to get to know someone!  D
 on’t worry if you have not spoken to everyone. You’ll get a chance
  later. 13:45 - Members & Networking Events  Please let us know if yo
 u have something coming up. We will tell everyone.13:50 - Time for TT&
 Ts! Tips, Testimonials and Thank You Time. Please feel free to tell ev
 eryone about someone who has given you business or someone you have wo
 rked with! 14:00 - Meeting Close - - Set Up for Seminar & Refresh Coff
 ees and Teas 14.00 - 14:30 FREE Speed Seminar - Topic to be announce
 d\r\nFor more info - Please visit our website here...\r\nCOST: £13 
 meeting fee including buffet-style lunch (cash on the door, pre-bookin
 g essential please!)\r\nBOOKING: Please CLICK HERE to register or e
 mail sales.omnilocal@gmail.com to reserve your place - or call John
  on 07898 870 870\r\nMAP \r\n--------------------------------------\r
 \nFind more Omni Local Networking Groups here on NiS...\n\nFor more i
 nformation visit https://networkinginsurrey.co.uk/events/omni-local-lu
 nch-camberley-4
DTSTART;TZID=Europe/London:20190426T123000
DTEND;TZID=Europe/London:20190426T143000
CATEGORIES:lunch, camberley, b2b, omni
LOCATION:The Rose and Thistle GU16 6HT
WEBSITE:
URL:
CONTACT:
ORGANIZER:Peter Bolton and Gil Marston Haynes
ATTACH;FMTTYPE="image/jpeg":http://storage.ning.com/topology/rest/1.0/
 file/get/250470414?profile=original
ATTENDEE;ROLE=REQ-PARTICIPANT;PARTSTAT=ACCEPTED;RSVP=TRUE;CN="John Gow
 er":https://networkinginsurrey.co.uk/profile/John
END:VEVENT
END:VCALENDAR
