BEGIN:VCALENDAR
PRODID:NingEventWidget-v1
VERSION:2.0
METHOD:PUBLISH
BEGIN:VTIMEZONE
TZID:Europe/London
X-LIC-LOCATION:Europe/London
BEGIN:DAYLIGHT
TZOFFSETFROM:+0000
TZOFFSETTO:+0100
TZNAME:BST
DTSTART:19700329T010000
RRULE:FREQ=YEARLY;BYMONTH=3;BYDAY=-1SU
END:DAYLIGHT
BEGIN:STANDARD
TZOFFSETFROM:+0100
TZOFFSETTO:+0000
TZNAME:GMT
DTSTART:19701025T020000
RRULE:FREQ=YEARLY;BYMONTH=10;BYDAY=-1SU
END:STANDARD
END:VTIMEZONE
BEGIN:VEVENT
UID:4626108:Event:533462
DTSTAMP:20260425T144305Z
SUMMARY:Omni Guildford Breakfast Hub
DESCRIPTION:Omni Guildford Virtual Hub \r\n\r\nAll our OMNI Business 
 Development Network groups are meeting online for the duration of the 
 current crisis.\r\nVisitors are welcome to register to take part in an
 y of our online meetings, but book fast as the Guildford meeting alway
 s sells out!\r\nTo save time in advance if you haven't already done so
  please download the Zoom App here... \r\nTo join this meeting on t
 he day, please visit Zoom here... and enter the Meeting ID and pass
 word you will receive once you have paid and reserved your place.\r\n
 COST: £6 - payable prior to the meeting.\r\nBOOKING: Please REGISTE
 R to take part here... \r\n--------------------------------------\r\n
 Find more Omni Groups here on NiS...\r\nFor more information, please 
 visit the Omni website here...\r\n\n\nFor more information visit http
 s://networkinginsurrey.co.uk/events/omni-local-guildford-breakfast-hub
 -533
DTSTART;TZID=Europe/London:20220701T074500
DTEND;TZID=Europe/London:20220701T093000
CATEGORIES:breakfast, guildford, b2b, omni
LOCATION:Online only
WEBSITE:http://omnilocalbusinessnetworking.com/
URL:http://omnilocalbusinessnetworking.com/
CONTACT:07898 870 870
ORGANIZER:John Gower and Andrea Smith
ATTACH;FMTTYPE="image/jpeg":https://storage.ning.com/topology/rest/1.0
 /file/get/10577741471?profile=original
ATTENDEE;ROLE=REQ-PARTICIPANT;PARTSTAT=ACCEPTED;RSVP=TRUE;CN="John Gow
 er":https://networkinginsurrey.co.uk/profile/John
END:VEVENT
END:VCALENDAR
