BEGIN:VCALENDAR
PRODID:NingEventWidget-v1
VERSION:2.0
METHOD:PUBLISH
BEGIN:VTIMEZONE
TZID:Europe/London
X-LIC-LOCATION:Europe/London
BEGIN:DAYLIGHT
TZOFFSETFROM:+0000
TZOFFSETTO:+0100
TZNAME:BST
DTSTART:19700329T010000
RRULE:FREQ=YEARLY;BYMONTH=3;BYDAY=-1SU
END:DAYLIGHT
BEGIN:STANDARD
TZOFFSETFROM:+0100
TZOFFSETTO:+0000
TZNAME:GMT
DTSTART:19701025T020000
RRULE:FREQ=YEARLY;BYMONTH=10;BYDAY=-1SU
END:STANDARD
END:VTIMEZONE
BEGIN:VEVENT
UID:4626108:Event:530575
DTSTAMP:20260424T185453Z
SUMMARY:FREE Omni Local DWP Kickstart Afternoon Webinar
DESCRIPTION:Employing young people through Kickstart Scheme! A Joint D
 WP & Omni Online Event\n\nAre you serious about growing your business,
  and looking for NEW staff??\nThen don't miss out on this FREE Open E
 vent about the Kickstarter Scheme! - Delivered by the DWP (Department 
 of Work & Pensions)\nOmni has partnered up with The DWP for a one-off 
 FREE 30 - 45 min presentation (and question round) about the Kickstart
  Scheme!\nTime s running out as ALL applications need to be in by 17th
  December!\nIt doesn't matter what role you are looking to fill or cre
 ate! You could be looking for someone to test a new concept, help with
  some new marketing activities, or take up some admin. The Kickstarter
  can help with this!\nWhat is the Kickstart Scheme?\nThe Kickstart Sch
 eme is a new programme launched by the government to deliver funding f
 or employers offering new job roles for 16-24 years olds who are curre
 ntly in receipt of Universal Credit. The programme is aimed at prevent
 ing young people who are currently unemployed from facing long-term un
 employment.\nWhy is this good for your business?    You get to take 
 on young adults who are vibrant and keen to work    You only need to
  commit to taking someone on for 6 months.\nWhat's more?    The gove
 rnment will pay!    25 hours of minimum wage for each employee    
 The National insurance           And......£1500 per employee
  you take on!\nAnd, you DON'T need an office!!!   ......It's a no-br
 ainer! \nSee you there!\nCOST: FREE\nBOOKING: To book your place CLIC
 K HERE\n\n--------------------------------------\nIf you can't make th
 is, then have a look at the website - https://www.gov.uk/government/c
 ollections/kickstart-scheme\n\n\nFor more information visit https://ne
 tworkinginsurrey.co.uk/events/omni-local-epsom-breakfast-hub-56
DTSTART;TZID=Europe/London:20211118T140000
DTEND;TZID=Europe/London:20211118T144500
CATEGORIES:breakfast, epsom, b2b, omni
LOCATION:Online only
WEBSITE:http://omnilocalbusinessnetworking.com/
URL:http://omnilocalbusinessnetworking.com/
CONTACT:07898 870 870
ORGANIZER;CN="John Gower":https://networkinginsurrey.co.uk/profile/Joh
 n
ATTACH;FMTTYPE="image/jpeg":https://storage.ning.com/topology/rest/1.0
 /file/get/9796089280?profile=original
ATTENDEE;ROLE=REQ-PARTICIPANT;PARTSTAT=ACCEPTED;RSVP=TRUE;CN="John Gow
 er":https://networkinginsurrey.co.uk/profile/John
END:VEVENT
END:VCALENDAR
