BEGIN:VCALENDAR
PRODID:NingEventWidget-v1
VERSION:2.0
METHOD:PUBLISH
BEGIN:VTIMEZONE
TZID:Europe/London
X-LIC-LOCATION:Europe/London
BEGIN:DAYLIGHT
TZOFFSETFROM:+0000
TZOFFSETTO:+0100
TZNAME:BST
DTSTART:19700329T010000
RRULE:FREQ=YEARLY;BYMONTH=3;BYDAY=-1SU
END:DAYLIGHT
BEGIN:STANDARD
TZOFFSETFROM:+0100
TZOFFSETTO:+0000
TZNAME:GMT
DTSTART:19701025T020000
RRULE:FREQ=YEARLY;BYMONTH=10;BYDAY=-1SU
END:STANDARD
END:VTIMEZONE
BEGIN:VEVENT
UID:4626108:Event:271284
DTSTAMP:20260422T060204Z
SUMMARY:Omni Local Christmas Lunch, Twickenham
DESCRIPTION:Omni All-Comers Christmas Lunch!Â \n\nJoin us at Alexander
  Pope Hotel for another fabulous Christmas celebration - Members and V
 isitors all welcome!\nÂ \nLocation: Cross Deep, Twickenham, TW1 4RB\nÂ
  \nBooking costs include:Â A free drink on reception\nThree course mea
 l\nFor more info - Please visitÂ our website here...\nCOST:Â Â£35Â (ca
 sh on the door, pre-booking essential please!)\nBOOKING:Â Please CLICK
  HEREÂ to register or send us an emailÂ Twickenham.OLBN@gmail.comÂ to 
 reserve your place - Â  or call Â DianeÂ on 07522 760 068Â or John on 
 07898 870 870\nMAP\n--------------------------------------\nFind more 
 Omni Local Networking GroupsÂ here on NiS...\n\nFor more information v
 isit https://networkinginsurrey.co.uk/events/omni-local-christmas-lunc
 h-twickenham
DTSTART;TZID=Europe/London:20191219T073000
DTEND;TZID=Europe/London:20191219T091500
CATEGORIES:breakfast, twickenham, teddington, b2b
LOCATION:The Alexander Pope Hotel TW1 4RB
WEBSITE:http://omnilocalbusinessnetworking.com/index.php/our-meetings/
 2016-03-23-10-44-44/by-date/9-twickenham-teddington-launch
URL:http://omnilocalbusinessnetworking.com/index.php/our-meetings/2016
 -03-23-10-44-44/by-date/9-twickenham-teddington-launch
CONTACT:07898 870 870
ORGANIZER:Diane Mitchell and Mark Behling
ATTACH;FMTTYPE="image/jpeg":https://storage.ning.com/topology/rest/1.0
 /file/get/596834715?profile=original
ATTENDEE;ROLE=REQ-PARTICIPANT;PARTSTAT=ACCEPTED;RSVP=TRUE;CN="John Gow
 er":https://networkinginsurrey.co.uk/profile/John
END:VEVENT
END:VCALENDAR
