BEGIN:VCALENDAR
PRODID:NingEventWidget-v1
VERSION:2.0
METHOD:PUBLISH
BEGIN:VTIMEZONE
TZID:Europe/London
X-LIC-LOCATION:Europe/London
BEGIN:DAYLIGHT
TZOFFSETFROM:+0000
TZOFFSETTO:+0100
TZNAME:BST
DTSTART:19700329T010000
RRULE:FREQ=YEARLY;BYMONTH=3;BYDAY=-1SU
END:DAYLIGHT
BEGIN:STANDARD
TZOFFSETFROM:+0100
TZOFFSETTO:+0000
TZNAME:GMT
DTSTART:19701025T020000
RRULE:FREQ=YEARLY;BYMONTH=10;BYDAY=-1SU
END:STANDARD
END:VTIMEZONE
BEGIN:VEVENT
UID:4626108:Event:87011
DTSTAMP:20260424T115814Z
SUMMARY:Omni Local Breakfast, Worcester Park
DESCRIPTION:Worcester Park OMNI Local Business Networking at TheÂ Nort
 hend Tavern\n\nIf you own your own business or work in an environment 
 where you need to find long term new clients or customers then you hav
 e found an easy way to do this!\nOn top of this you can come to one of
  our FREE Seminars after the breakfast meeting!\nCome and meet the Omn
 i Worcester Park Team:Â Gilles Pelenc,Â Mark HughesÂ &Â Sam Millard.Â 
 We get booked up in advance, so please reserve your place early!!!\nME
 ETING FORMAT -\n08.00 - Open Networking & Registration Best to get the
 re early! 08.15 - Breakfast is served & Opening of the meeting from th
 e Group Director 08:20 - Start 1 Minute Round  08:45 - 1-2-1 Meeting S
 et Up  Pick someone you might need to help your business or who can he
 lp yours! 08:50 - Pitch Platform from an Omni MemberÂ & Question TimeÂ
  (If you want to do this, you must be a member) 09.05 - Start 1-2-1 Me
 eting Â Please remember this a chance to get to know someone! Â Donâ€™
 t worry if you have not spoken to everyone. Youâ€™ll get a chance late
 r. 09:25 - Members & Networking Events Â Please let us know if you hav
 e something coming up. We will tell everyone. 09:30 - Time for TT&Ts! 
 Tips, Testimonials and Thank You Time. Please feel free to tell everyo
 ne about someone who has given you business or someone you have worked
  with! 09:45 - Meeting Close - - Set Up for Seminar & Refresh Coffees 
 and Teas 10.00 -Â 10:45Â FREE Speed Seminar - Topic to be announced\nF
 or more info - Please visitÂ our website here...\nCOST:Â Â£12 meeting 
 fee including breakfast (cash on the door, pre-booking essential pleas
 e!)\nBOOKING:Â Please email sales.omnilocal@gmail.comÂ to reserve your
  place - or call John on 07898 870 870\nMAP\n-------------------------
 -------------\nFind more Omni Local Networking GroupsÂ here on NiS...\
 n\nFor more information visit https://networkinginsurrey.co.uk/events/
 omni-local-breakfast-worcester-park-14
DTSTART;TZID=Europe/London:20170310T073000
DTEND;TZID=Europe/London:20170310T091500
CATEGORIES:breakfast, worcester_park, b2b
LOCATION:Northend Tavern KT4 8ST
WEBSITE:http://omnilocalbusinessnetworking.com/
URL:http://omnilocalbusinessnetworking.com/
CONTACT:07898 870 870
ORGANIZER;CN="John Gower":https://networkinginsurrey.co.uk/profile/Joh
 n
ATTACH;FMTTYPE="image/jpeg":http://storage.ning.com/topology/rest/1.0/
 file/get/2591457515?profile=original
ATTENDEE;ROLE=REQ-PARTICIPANT;PARTSTAT=ACCEPTED;RSVP=TRUE;CN="John Gow
 er":https://networkinginsurrey.co.uk/profile/John
END:VEVENT
END:VCALENDAR
