BEGIN:VCALENDAR
PRODID:NingEventWidget-v1
VERSION:2.0
METHOD:PUBLISH
BEGIN:VTIMEZONE
TZID:Europe/London
X-LIC-LOCATION:Europe/London
BEGIN:DAYLIGHT
TZOFFSETFROM:+0000
TZOFFSETTO:+0100
TZNAME:BST
DTSTART:19700329T010000
RRULE:FREQ=YEARLY;BYMONTH=3;BYDAY=-1SU
END:DAYLIGHT
BEGIN:STANDARD
TZOFFSETFROM:+0100
TZOFFSETTO:+0000
TZNAME:GMT
DTSTART:19701025T020000
RRULE:FREQ=YEARLY;BYMONTH=10;BYDAY=-1SU
END:STANDARD
END:VTIMEZONE
BEGIN:VEVENT
UID:4626108:Event:98079
DTSTAMP:20260422T145432Z
SUMMARY:LAUNCH EVENT: Omni Local Breakfast, Guildford
DESCRIPTION:Launch Event: Omni LocalÂ  - Guildford & Woking Group\r\nI
 f you own your own business or work in an environment where you need t
 o find long term new clients or customers then you have found an easy 
 way to do this!\r\nOn top of this you can come to one of our FREE Semi
 nars after the breakfast meeting!\r\nCome and meet the Omni Guildford 
 and Woking Team: Alan HowellÂ and Annette Gardner. We get booked up in
  advance, so please reserve your place early!!!\r\nMEETING FORMAT -\r\
 n07:30 - Open Networking & Registration Best to get there early! 07:45
  - Breakfast is served & Opening of the meeting from the Group Directo
 r 07:50 - Start 1 Minute Round  08:15 - End of 1 Minute Round 08:15 - 
 1-2-1 Meeting Set Up  Â Pick someone you might need to help your busin
 ess or who can help yours! 08:20 - Time for Pitch Platform & Question 
 Time -If you want to do this, you must be a member 08:30 - End of Ques
 tion Time Use this time to get tips from an expert 08.35 - Start 1-2-1
  Meeting Â Please remember this a chance to get to know someone! Â Don
 â€™t worry if you have not spoken to everyone. Youâ€™ll get a chance l
 ater. 08:50 - End 1-2-1 Meetings & Back to your spot 08:55 - Members &
  Networking Events Â Please let us know if you have something coming u
 p. We will tell everyone. 09:00 - Time for TT&Ts! Tips, Testimonials a
 nd Thank You Time. Please feel free to tell everyone about someone who
  has given you business or someone you have worked with! 09:15 - Meeti
 ng Close - - Set Up for Seminar & Refresh Coffees and Teas\r\n09:30 -Â
  10:15Â FREE Speed SeminarÂ \r\nFor more info - Please visitÂ our webs
 ite here...\r\nCOST: Â£12 meeting fee including breakfast (cash on the
  door, pre-booking essential please!)\r\nBOOKING:Â Please CLICK HEREÂ 
 to register or send us an email to reserve your place - sales.omniloca
 l@gmail.comÂ or call John on 07898 870 870\r\nMAP \r\n----------------
 ----------------------\r\nFind more Omni Local Networking GroupsÂ here
  on NiS...\n\nFor more information visit https://networkinginsurrey.co
 .uk/events/omni-local-breakfast-wimbledon-25
DTSTART;TZID=Europe/London:20180516T073000
DTEND;TZID=Europe/London:20180516T091500
CATEGORIES:breakfast, weybridge, morden, b2b
LOCATION:The Royal Oak GU3 3DA
WEBSITE:https://www.omnilocalbusinessnetworking.com/our-meetings/find-
 a-meeting/upcoming
URL:https://www.omnilocalbusinessnetworking.com/our-meetings/find-a-me
 eting/upcoming
CONTACT:07898 870 870
ORGANIZER:Alan Howell and Annette Gardner
ATTACH;FMTTYPE="image/jpeg":http://storage.ning.com/topology/rest/1.0/
 file/get/2470856954?profile=original
ATTENDEE;ROLE=REQ-PARTICIPANT;PARTSTAT=ACCEPTED;RSVP=TRUE;CN="John Gow
 er":https://networkinginsurrey.co.uk/profile/John
END:VEVENT
END:VCALENDAR
