BEGIN:VCALENDAR
PRODID:NingEventWidget-v1
VERSION:2.0
METHOD:PUBLISH
BEGIN:VTIMEZONE
TZID:Europe/London
X-LIC-LOCATION:Europe/London
BEGIN:DAYLIGHT
TZOFFSETFROM:+0000
TZOFFSETTO:+0100
TZNAME:BST
DTSTART:19700329T010000
RRULE:FREQ=YEARLY;BYMONTH=3;BYDAY=-1SU
END:DAYLIGHT
BEGIN:STANDARD
TZOFFSETFROM:+0100
TZOFFSETTO:+0000
TZNAME:GMT
DTSTART:19701025T020000
RRULE:FREQ=YEARLY;BYMONTH=10;BYDAY=-1SU
END:STANDARD
END:VTIMEZONE
BEGIN:VEVENT
UID:4626108:Event:178231
DTSTAMP:20260422T121021Z
SUMMARY:Omni Local Breakfast, Weybridge
DESCRIPTION:Omni Local Business Networking -  Walton & Weybridge Grou
 p\n\nIf you own your own business or work in an environment where you 
 need to find long term new clients or customers then you have found an
  easy way to do this!\nOn top of this you can come to one of our FREE 
 Seminars after the breakfast meeting!\nCome and meet the Omni Weybrid
 ge Team: Darren Evans & Richard Ranson. We get booked up in advance, s
 o please reserve your place early!!!\nMEETING FORMAT -\n07:30 - Open 
 Networking & RegistrationBest to get there early!08:00 - Breakfast is
  served & Opening of the meeting from the Group Director08:20 - Start
  1 Minute Round 08:40 - 1-2-1 Meeting Set Up Pick someone you might
  need to help your business or who can help yours!08:45 - Time for Pi
 tch Platform & Question Time -If you want to do this, you must be a me
 mber09.00 - Start 1-2-1 MeetingPlease remember this a chance to get t
 o know someone!  Don’t worry if you have not spoken to everyone. Yo
 u’ll get a chance later.09:15 - Members & Networking EventsPlease l
 et us know if you have something coming up. We will tell everyone.09:2
 0 - Time for TT&Ts! Tips, Testimonials and Thank You Time. Please fee
 l free to tell everyone about someone who has given you business or so
 meone you have worked with!09:30 - Meeting Close\nFor more info - Ple
 ase visit our website here...\nCOST: £12 meeting fee including brea
 kfast (cash on the door, pre-booking essential please!)\nBOOKING: Pl
 ease CLICK HERE to register to attend or send us an email to reserve 
 your place - sales.omnilocal@gmail.com or call John on 07898 870 870\
 nMAP\n--------------------------------------\nFind more Omni Local Net
 working Groups here on NiS...\n\nFor more information visit https://n
 etworkinginsurrey.co.uk/events/omni-local-breakfast-weybridge-401
DTSTART;TZID=Europe/London:20190717T073000
DTEND;TZID=Europe/London:20190717T091500
CATEGORIES:breakfast, weybridge, omni, b2b
LOCATION:The Hand and Spear KT13 8TX
WEBSITE:http://omnilocalbusinessnetworking.com/index.php/our-meetings/
 2016-03-23-10-44-44/by-date/9-twickenham-teddington-launch
URL:http://omnilocalbusinessnetworking.com/index.php/our-meetings/2016
 -03-23-10-44-44/by-date/9-twickenham-teddington-launch
CONTACT:07898 870 870
ORGANIZER:Darren Evans and Richard Ranson
ATTACH;FMTTYPE="image/jpeg":https://storage.ning.com/topology/rest/1.0
 /file/get/180352182?profile=original
ATTENDEE;ROLE=REQ-PARTICIPANT;PARTSTAT=ACCEPTED;RSVP=TRUE;CN="John Gow
 er":https://networkinginsurrey.co.uk/profile/John
END:VEVENT
END:VCALENDAR
