BEGIN:VCALENDAR
PRODID:NingEventWidget-v1
VERSION:2.0
METHOD:PUBLISH
BEGIN:VTIMEZONE
TZID:Europe/London
X-LIC-LOCATION:Europe/London
BEGIN:DAYLIGHT
TZOFFSETFROM:+0000
TZOFFSETTO:+0100
TZNAME:BST
DTSTART:19700329T010000
RRULE:FREQ=YEARLY;BYMONTH=3;BYDAY=-1SU
END:DAYLIGHT
BEGIN:STANDARD
TZOFFSETFROM:+0100
TZOFFSETTO:+0000
TZNAME:GMT
DTSTART:19701025T020000
RRULE:FREQ=YEARLY;BYMONTH=10;BYDAY=-1SU
END:STANDARD
END:VTIMEZONE
BEGIN:VEVENT
UID:4626108:Event:95391
DTSTAMP:20260422T220225Z
SUMMARY:Omni Local Breakfast, West Clandon
DESCRIPTION:Clandon Wood OMNI Local Business Networking \nIf you own 
 your own business or work in an environment where you need to find lon
 g term new clients or customers then you have found an easy way to do 
 this!\nOn top of this you can come to one of our FREE Seminars after t
 he breakfast meeting!\nCome and meet the Omni Clandon Team: Fiona Ros
 s & Annette Gardner. We get booked up in advance, so please reserve 
 your place early!!!\nMEETING FORMAT -\n08.00 - Open Networking & Regis
 tration Best to get there early! 08.15 - Breakfast is served & Opening
  of the meeting from the Group Director 08:20 - Start 1 Minute Round  
 08:45 - 1-2-1 Meeting Set Up  Pick someone you might need to help your
  business or who can help yours! 08:50 - Pitch Platform from an Omni M
 ember & Question Time (If you want to do this, you must be a member)
  09.05 - Start 1-2-1 Meeting  Please remember this a chance to get to
  know someone!  Don’t worry if you have not spoken to everyone. You
 ’ll get a chance later. 09:25 - Members & Networking Events  Please
  let us know if you have something coming up. We will tell everyone. 0
 9:30 - Time for TT&Ts! Tips, Testimonials and Thank You Time. Please f
 eel free to tell everyone about someone who has given you business or 
 someone you have worked with! 09:45 - Meeting Close - - Set Up for Sem
 inar & Refresh Coffees and Teas 10.00 - 10:45 FREE Speed Seminar - T
 opic to be announced\nFor more info - Please visit our website here..
 .\nCOST: £12 meeting fee including breakfast (cash on the door, pre-
 booking essential please!)\nBOOKING: Please CLICK HERE to register t
 o attend or  email sales.omnilocal@gmail.com to reserve your place -
  or call John on 07898 870 870\nMAP\n(for sat-navs please use GU4 7TT)
 \n--------------------------------------\nFind more Omni Local Network
 ing Groups here on NiS...\n\nFor more information visit https://netwo
 rkinginsurrey.co.uk/events/omni-local-breakfast-west-clandon-24
DTSTART;TZID=Europe/London:20180124T073000
DTEND;TZID=Europe/London:20180124T094500
CATEGORIES:breakfast, omni_local, clandon
LOCATION:Clandon Wood Burial Ground GUF4 7FN
WEBSITE:
URL:
CONTACT:07898 870 870
ORGANIZER:Fiona Ross and Annette Gardner
ATTACH;FMTTYPE="image/jpeg":http://storage.ning.com/topology/rest/1.0/
 file/get/2470856954?profile=original
ATTENDEE;ROLE=REQ-PARTICIPANT;PARTSTAT=ACCEPTED;RSVP=TRUE;CN="John Gow
 er":https://networkinginsurrey.co.uk/profile/John
END:VEVENT
END:VCALENDAR
