BEGIN:VCALENDAR
PRODID:NingEventWidget-v1
VERSION:2.0
METHOD:PUBLISH
BEGIN:VTIMEZONE
TZID:Europe/London
X-LIC-LOCATION:Europe/London
BEGIN:DAYLIGHT
TZOFFSETFROM:+0000
TZOFFSETTO:+0100
TZNAME:BST
DTSTART:19700329T010000
RRULE:FREQ=YEARLY;BYMONTH=3;BYDAY=-1SU
END:DAYLIGHT
BEGIN:STANDARD
TZOFFSETFROM:+0100
TZOFFSETTO:+0000
TZNAME:GMT
DTSTART:19701025T020000
RRULE:FREQ=YEARLY;BYMONTH=10;BYDAY=-1SU
END:STANDARD
END:VTIMEZONE
BEGIN:VEVENT
UID:4626108:Event:182901
DTSTAMP:20260422T222120Z
SUMMARY:Omni Local Breakfast, Warlingham
DESCRIPTION:Omni Local Business Networking - Warlingham Group\r\n\r\nI
 f you own your own business or work in an environment where you need t
 o find long term new clients or customers then you have found an easy 
 way to do this!\r\nOn top of this you can come to one of our FREE Semi
 nars after the breakfast meeting!\r\nCome and meet the Omni Warlingha
 m Team - John Gower and Ivan Moorhouse. We get booked up in advance, s
 o please reserve your place early!!!\r\nMEETING FORMAT -\r\n07:30 - O
 pen Networking & Registration Best to get there early! 08:00 - Breakf
 ast is served & Opening of the meeting from the Group Director 08:20 
 - Start 1 Minute Round  08:40 - 1-2-1 Meeting Set Up  Pick someone 
 you might need to help your business or who can help yours! 08:45 - T
 ime for Pitch Platform & Question Time -If you want to do this, you mu
 st be a member 09.00 - Start 1-2-1 Meeting Please remember this a cha
 nce to get to know someone!  Don’t worry if you have not spoken to 
 everyone. You’ll get a chance later. 09:15 - Members & Networking E
 vents Please let us know if you have something coming up. We will tell
  everyone. 09:20 - Time for TT&Ts! Tips, Testimonials and Thank You T
 ime. Please feel free to tell everyone about someone who has given you
  business or someone you have worked with! 09:30 - Meeting Close\r\nF
 or more info - Please visit our website here...\r\nCOST: £13 meeti
 ng fee including breakfast (cash on the door, pre-booking essential p
 lease!)\r\nBOOKING: Please CLICK HERE to register or email sales.om
 nilocal@gmail.com to reserve your place - or call John on 07898 870
  870\r\nMAP\r\n \n\nFor more information visit https://networkinginsur
 rey.co.uk/events/omni-local-breakfast-warlingham-141
DTSTART;TZID=Europe/London:20190725T073000
DTEND;TZID=Europe/London:20190725T091500
CATEGORIES:breakfast, warlingham, b2b
LOCATION:The Bull Inn CR6 9PB
WEBSITE:http://omnilocalbusinessnetworking.com/index.php/our-meetings/
 2016-03-23-10-44-44/by-date/9-twickenham-teddington-launch
URL:http://omnilocalbusinessnetworking.com/index.php/our-meetings/2016
 -03-23-10-44-44/by-date/9-twickenham-teddington-launch
CONTACT:07898 870 870
ORGANIZER:Ivan Moorhouse
ATTACH;FMTTYPE="image/jpeg":https://storage.ning.com/topology/rest/1.0
 /file/get/180524743?profile=original
ATTENDEE;ROLE=REQ-PARTICIPANT;PARTSTAT=ACCEPTED;RSVP=TRUE;CN="John Gow
 er":https://networkinginsurrey.co.uk/profile/John
END:VEVENT
END:VCALENDAR
