BEGIN:VCALENDAR
PRODID:NingEventWidget-v1
VERSION:2.0
METHOD:PUBLISH
BEGIN:VTIMEZONE
TZID:Europe/London
X-LIC-LOCATION:Europe/London
BEGIN:DAYLIGHT
TZOFFSETFROM:+0000
TZOFFSETTO:+0100
TZNAME:BST
DTSTART:19700329T010000
RRULE:FREQ=YEARLY;BYMONTH=3;BYDAY=-1SU
END:DAYLIGHT
BEGIN:STANDARD
TZOFFSETFROM:+0100
TZOFFSETTO:+0000
TZNAME:GMT
DTSTART:19701025T020000
RRULE:FREQ=YEARLY;BYMONTH=10;BYDAY=-1SU
END:STANDARD
END:VTIMEZONE
BEGIN:VEVENT
UID:4626108:Event:182599
DTSTAMP:20260423T012709Z
SUMMARY:Omni Local Breakfast, Twickenham
DESCRIPTION:Omni Local Business Networking -Â  Twickenham & Teddington
  Group\r\n\r\nIf you own your own business or work in an environment w
 here you need to find long term new clients or customers then you have
  found an easy way to do this!\r\nOn top of this you can come to one o
 f our FREE Seminars after the breakfast meeting!\r\nCome and meet the 
 Omni Twickenham & Teddington Team: Diane MitchellÂ & Paul Smith. We ge
 t booked up in advance, so please reserve your place early!!!\r\nMEETI
 NG FORMAT -\r\n07:30Â - Open Networking & Registration Best to get the
 re early! 08:00Â - Breakfast is served & Opening of the meeting from t
 he Group Director 08:20Â - Start 1 Minute RoundÂ  08:40Â - 1-2-1 Meeti
 ng Set UpÂ  Pick someone you might need to help your business or who c
 an help yours! 08:45Â - Time for Pitch Platform & Question Time -If yo
 u want to do this, you must be a member 09.00Â - Start 1-2-1 Meeting P
 lease remember this a chance to get to know someone!Â  Donâ€™t worry i
 f you have not spoken to everyone. Youâ€™ll get a chance later. 09:15Â
  - Members & Networking Events Please let us know if you have somethin
 g coming up. We will tell everyone. 09:20Â - Time for TT&Ts! Tips, Tes
 timonials and Thank You Time. Please feel free to tell everyone about 
 someone who has given you business or someone you have worked with! 09
 :30Â - Meeting Close\r\nFor more info - Please visitÂ our website here
 ...\r\nCOST:Â Â£13Â meeting fee including breakfastÂ (cash on the door
 , pre-booking essential please!)\r\nBOOKING:Â Please CLICK HEREÂ to re
 gister or send us an emailÂ Twickenham.OLBN@gmail.comÂ to reserve your
  place - Â  or call Â JanetÂ on Â 07730 696 514 or John on 07898 870 8
 70\r\nMAP \r\n--------------------------------------\r\nFind more Omni
  Local Networking GroupsÂ here on NiS...\n\nFor more information visit
  https://networkinginsurrey.co.uk/events/omni-local-breakfast-twickenh
 am-656
DTSTART;TZID=Europe/London:20190725T073000
DTEND;TZID=Europe/London:20190725T091500
CATEGORIES:breakfast, twickenham, teddington, b2b
LOCATION:The Alexander Pope Hotel TW1 4RB
WEBSITE:http://omnilocalbusinessnetworking.com/index.php/our-meetings/
 2016-03-23-10-44-44/by-date/9-twickenham-teddington-launch
URL:http://omnilocalbusinessnetworking.com/index.php/our-meetings/2016
 -03-23-10-44-44/by-date/9-twickenham-teddington-launch
CONTACT:07898 870 870
ORGANIZER:Diane Mitchell and Paul Smith
ATTACH;FMTTYPE="image/jpeg":https://storage.ning.com/topology/rest/1.0
 /file/get/596834715?profile=original
ATTENDEE;ROLE=REQ-PARTICIPANT;PARTSTAT=ACCEPTED;RSVP=TRUE;CN="John Gow
 er":https://networkinginsurrey.co.uk/profile/John
END:VEVENT
END:VCALENDAR
