BEGIN:VCALENDAR
PRODID:NingEventWidget-v1
VERSION:2.0
METHOD:PUBLISH
BEGIN:VTIMEZONE
TZID:Europe/London
X-LIC-LOCATION:Europe/London
BEGIN:DAYLIGHT
TZOFFSETFROM:+0000
TZOFFSETTO:+0100
TZNAME:BST
DTSTART:19700329T010000
RRULE:FREQ=YEARLY;BYMONTH=3;BYDAY=-1SU
END:DAYLIGHT
BEGIN:STANDARD
TZOFFSETFROM:+0100
TZOFFSETTO:+0000
TZNAME:GMT
DTSTART:19701025T020000
RRULE:FREQ=YEARLY;BYMONTH=10;BYDAY=-1SU
END:STANDARD
END:VTIMEZONE
BEGIN:VEVENT
UID:4626108:Event:98373
DTSTAMP:20260422T205745Z
SUMMARY:Launch Event: Omni Local Breakfast, Staines
DESCRIPTION:New! Staines OMNI Local Business Networking at The Boleyn 
 Hotel\r\nIf you own your own business or work in an environment where 
 you need to find long term new clients or customers then you have foun
 d an easy way to do this!\r\nOn top of this you can come to one of our
  FREE Seminars after the breakfast meeting!\r\nThis group originally m
 et in Worcester Park, but we've moved! Come and meet the Omni Staines
  Team, headed by Billy Lyle.\r\nWe get booked up in advance, so pleas
 e reserve your place early!!!\r\nMEETING FORMAT -\r\n08.00 - Open Netw
 orking & Registration Best to get there early! 08.15 - Breakfast is se
 rved & Opening of the meeting from the Group Director 08:20 - Start 1 
 Minute Round  08:45 - 1-2-1 Meeting Set Up  Pick someone you might be 
 able to help in their business or who can help yours! 08:50 - Pitch Pl
 atform from an Omni Member & Question Time (If you want to do this, 
 you must be a member) 09.05 - Start 1-2-1 Meeting  Please remember th
 is a chance to get to know someone!  Don’t worry if you have not sp
 oken to everyone. You’ll get a chance later. 09:25 - Members & Netwo
 rking Events  Please let us know if you have something coming up. We 
 will tell everyone. 09:30 - Time for TT&Ts! Tips, Testimonials and Tha
 nk You Time. Please feel free to tell everyone about someone who has g
 iven you business or someone you have worked with! 09:45 - Meeting Clo
 se - - Set Up for Seminar & Refresh Coffees and Teas 10.00 - 10:45 F
 REE Speed Seminar - Topic to be announced\r\nFor more info - Please vi
 sit our website here...\r\nCOST: £12 meeting fee including breakfas
 t (cash on the door, pre-booking essential please!)\r\nBOOKING: Pleas
 e CLICK HERE to register or email sales.omnilocal@gmail.com to reser
 ve your place - or call John on 07898 870 870\r\nMAP \r\n-------------
 -------------------------\r\nFind more Omni Local Networking Groups h
 ere on NiS...\n\nFor more information visit https://networkinginsurrey
 .co.uk/events/omni-local-breakfast-staines
DTSTART;TZID=Europe/London:20180601T073000
DTEND;TZID=Europe/London:20180601T094500
CATEGORIES:breakfast, staines, b2b
LOCATION:The Boleyn Hotel TW18 3JD
WEBSITE:http://omnilocalbusinessnetworking.com/
URL:http://omnilocalbusinessnetworking.com/
CONTACT:07898 870 870
ORGANIZER:Billy Lyle
ATTACH;FMTTYPE="image/jpeg":http://storage.ning.com/topology/rest/1.0/
 file/get/2470856954?profile=original
ATTENDEE;ROLE=REQ-PARTICIPANT;PARTSTAT=ACCEPTED;RSVP=TRUE;CN="John Gow
 er":https://networkinginsurrey.co.uk/profile/John
ATTENDEE;ROLE=REQ-PARTICIPANT;PARTSTAT=ACCEPTED;RSVP=TRUE;CN="Daniel B
 rough":https://networkinginsurrey.co.uk/profile/DanielBrough
END:VEVENT
END:VCALENDAR
