BEGIN:VCALENDAR
PRODID:NingEventWidget-v1
VERSION:2.0
METHOD:PUBLISH
BEGIN:VTIMEZONE
TZID:Europe/London
X-LIC-LOCATION:Europe/London
BEGIN:DAYLIGHT
TZOFFSETFROM:+0000
TZOFFSETTO:+0100
TZNAME:BST
DTSTART:19700329T010000
RRULE:FREQ=YEARLY;BYMONTH=3;BYDAY=-1SU
END:DAYLIGHT
BEGIN:STANDARD
TZOFFSETFROM:+0100
TZOFFSETTO:+0000
TZNAME:GMT
DTSTART:19701025T020000
RRULE:FREQ=YEARLY;BYMONTH=10;BYDAY=-1SU
END:STANDARD
END:VTIMEZONE
BEGIN:VEVENT
UID:4626108:Event:182796
DTSTAMP:20260422T175707Z
SUMMARY:Omni Local Breakfast, Staines
DESCRIPTION:Staines OMNI Local Business Networking at The Boleyn Hotel
 \r\nIf you own your own business or work in an environment where you n
 eed to find long term new clients or customers then you have found an 
 easy way to do this!\r\nOn top of this you can come to one of our FREE
  Seminars after the breakfast meeting!\r\nThis group originally met in
  Worcester Park, but we've moved! Come and meet the Omni Staines Team
 ,  Billy Lyle and Rick Craft. We get booked up in advance, so plea
 se reserve your place early!!!\r\nMEETING FORMAT -\r\n07:30 - Open Ne
 tworking & Registration Best to get there early! 08:00 - Breakfast is
  served & Opening of the meeting from the Group Director 08:20 - Star
 t 1 Minute Round  08:40 - 1-2-1 Meeting Set Up  Pick someone you mi
 ght need to help your business or who can help yours! 08:45 - Time fo
 r Pitch Platform & Question Time -If you want to do this, you must be 
 a member 09.00 - Start 1-2-1 Meeting Please remember this a chance to
  get to know someone!  Don’t worry if you have not spoken to everyo
 ne. You’ll get a chance later. 09:15 - Members & Networking Events 
 Please let us know if you have something coming up. We will tell every
 one. 09:20 - Time for TT&Ts! Tips, Testimonials and Thank You Time. P
 lease feel free to tell everyone about someone who has given you busin
 ess or someone you have worked with! 09:30 - Meeting Close\r\nFor mor
 e info - Please visit our website here...\r\nCOST: £13 meeting fee 
 including breakfast (cash on the door, pre-booking essential please!)\
 r\nBOOKING: Please CLICK HERE to register or email sales.omnilocal@g
 mail.com to reserve your place - or call John on 07898 870 870\r\nMAP
  \r\n--------------------------------------\r\nFind more Omni Local Ne
 tworking Groups here on NiS...\n\nFor more information visit https://
 networkinginsurrey.co.uk/events/omni-local-breakfast-staines-26
DTSTART;TZID=Europe/London:20190726T073000
DTEND;TZID=Europe/London:20190726T094500
CATEGORIES:breakfast, staines, b2b
LOCATION:The Boleyn Hotel TW18 3JD
WEBSITE:http://omnilocalbusinessnetworking.com/
URL:http://omnilocalbusinessnetworking.com/
CONTACT:07898 870 870
ORGANIZER:Billy Lyle and Rick Craft
ATTACH;FMTTYPE="image/jpeg":https://storage.ning.com/topology/rest/1.0
 /file/get/250470414?profile=original
ATTENDEE;ROLE=REQ-PARTICIPANT;PARTSTAT=ACCEPTED;RSVP=TRUE;CN="John Gow
 er":https://networkinginsurrey.co.uk/profile/John
END:VEVENT
END:VCALENDAR
