BEGIN:VCALENDAR
PRODID:NingEventWidget-v1
VERSION:2.0
METHOD:PUBLISH
BEGIN:VTIMEZONE
TZID:Europe/London
X-LIC-LOCATION:Europe/London
BEGIN:DAYLIGHT
TZOFFSETFROM:+0000
TZOFFSETTO:+0100
TZNAME:BST
DTSTART:19700329T010000
RRULE:FREQ=YEARLY;BYMONTH=3;BYDAY=-1SU
END:DAYLIGHT
BEGIN:STANDARD
TZOFFSETFROM:+0100
TZOFFSETTO:+0000
TZNAME:GMT
DTSTART:19701025T020000
RRULE:FREQ=YEARLY;BYMONTH=10;BYDAY=-1SU
END:STANDARD
END:VTIMEZONE
BEGIN:VEVENT
UID:4626108:Event:294374
DTSTAMP:20260422T100314Z
SUMMARY:NEW: Omni Local Breakfast, London Heathrow
DESCRIPTION:Omni Local Business Networking -  Heathrow Group\nIf you 
 own your own business or work in an environment where you need to find
  long term new clients or customers then you have found an easy way to
  do this!\nCome and meet the Omni Heathrow Team: Billy Lyle & John Go
 wer. We get booked up in advance, so please reserve your place early!!
 !\nMEETING FORMAT -\n07:30 - Open Networking & Registration Best to g
 et there early! 08:00 - Breakfast is served & Opening of the meeting 
 from the Group Director 08:20 - Start 1 Minute Round  08:40 - 1-2-1
  Meeting Set Up  Pick someone you might need to help your business or
  who can help yours! 08:45 - Time for Pitch Platform & Question Time 
 -If you want to do this, you must be a member 09.00 - Start 1-2-1 Mee
 ting Please remember this a chance to get to know someone!  Don’t w
 orry if you have not spoken to everyone. You’ll get a chance later. 
 09:15 - Members & Networking Events Please let us know if you have so
 mething coming up. We will tell everyone. 09:20 - Time for TT&Ts! Tip
 s, Testimonials and Thank You Time. Please feel free to tell everyone 
 about someone who has given you business or someone you have worked wi
 th! 09:30 - Meeting Close\nFor more info - Please visit our website 
 here...\nCOST: £13 meeting fee including breakfast (cash on the doo
 r, pre-booking essential please!)\nBOOKING: Please CLICK HERE to reg
 ister to attend or send us an email to reserve your place - sales.omni
 local@gmail.com or call John on 07898 870 870\nMAP\nParking is free f
 or up to 2 hours.in the visitors area, straight ahead as you enter (gr
 ey tiles, not the red tiled area).\nIt's a few minutes from Junction 4
  of the M4 signposted Stockley Park East/golf course. As you enter, th
 ere is a manned security box on the right -stay in the left lane and t
 ake the first exit at the roundabout. Take the only turning at the nex
 t roundabout and pass Gilead Life Sciences - The Bower is the next bui
 lding. \n--------------------------------------\nFind more Omni Local
  Networking Groups here on NiS...\n\nFor more information visit https
 ://networkinginsurrey.co.uk/events/omni-local-breakfast-london-heathro
 w
DTSTART;TZID=Europe/London:20200121T073000
DTEND;TZID=Europe/London:20200121T091500
CATEGORIES:breakfast, weybridge, omni, b2b
LOCATION:The Bower UB11 1AF
WEBSITE:http://omnilocalbusinessnetworking.com/index.php/our-meetings/
 2016-03-23-10-44-44/by-date/9-twickenham-teddington-launch
URL:http://omnilocalbusinessnetworking.com/index.php/our-meetings/2016
 -03-23-10-44-44/by-date/9-twickenham-teddington-launch
CONTACT:07898 870 870
ORGANIZER:Billy Lyle and John Gower
ATTACH;FMTTYPE="image/jpeg":https://storage.ning.com/topology/rest/1.0
 /file/get/180352182?profile=original
ATTENDEE;ROLE=REQ-PARTICIPANT;PARTSTAT=ACCEPTED;RSVP=TRUE;CN="John Gow
 er":https://networkinginsurrey.co.uk/profile/John
END:VEVENT
END:VCALENDAR
