BEGIN:VCALENDAR
PRODID:NingEventWidget-v1
VERSION:2.0
METHOD:PUBLISH
BEGIN:VTIMEZONE
TZID:Europe/London
X-LIC-LOCATION:Europe/London
BEGIN:DAYLIGHT
TZOFFSETFROM:+0000
TZOFFSETTO:+0100
TZNAME:BST
DTSTART:19700329T010000
RRULE:FREQ=YEARLY;BYMONTH=3;BYDAY=-1SU
END:DAYLIGHT
BEGIN:STANDARD
TZOFFSETFROM:+0100
TZOFFSETTO:+0000
TZNAME:GMT
DTSTART:19701025T020000
RRULE:FREQ=YEARLY;BYMONTH=10;BYDAY=-1SU
END:STANDARD
END:VTIMEZONE
BEGIN:VEVENT
UID:4626108:Event:538743
DTSTAMP:20260422T012459Z
SUMMARY:Omni Local Breakfast Live! Wimbledon
DESCRIPTION:Omni Guildford Live! at The Dog and Fox\n\nIf you own your
  own business or work in an environment where you need to find long te
 rm new clients or customers then you have found an easy way to do this
 !\nWe're back in person to our lovely venue at last...\nCOST: £6 - p
 ayable prior to the meeting.\nBOOKING: Please REGISTER to take part h
 ere... \nMAP\n--------------------------------------\nFind more Omni 
 Groups here on NiS...\nFor more information, please visit the Omni w
 ebsite here...\n\n\nFor more information visit https://networkinginsur
 rey.co.uk/events/omni-local-breakfast-live-wimbledon-2
DTSTART;TZID=Europe/London:20230607T074500
DTEND;TZID=Europe/London:20230607T093000
CATEGORIES:breakfast, wimbledon, b2b, omni
LOCATION:The Dog and Fox SW19 5EA
WEBSITE:http://omnilocalbusinessnetworking.com/
URL:http://omnilocalbusinessnetworking.com/
CONTACT:07898 870 870
ORGANIZER:John Gower and Denise Murphy
ATTACH;FMTTYPE="image/jpeg":https://storage.ning.com/topology/rest/1.0
 /file/get/10607159901?profile=original
ATTENDEE;ROLE=REQ-PARTICIPANT;PARTSTAT=ACCEPTED;RSVP=TRUE;CN="John Gow
 er":https://networkinginsurrey.co.uk/profile/John
END:VEVENT
END:VCALENDAR
