BEGIN:VCALENDAR
PRODID:NingEventWidget-v1
VERSION:2.0
METHOD:PUBLISH
BEGIN:VTIMEZONE
TZID:Europe/London
X-LIC-LOCATION:Europe/London
BEGIN:DAYLIGHT
TZOFFSETFROM:+0000
TZOFFSETTO:+0100
TZNAME:BST
DTSTART:19700329T010000
RRULE:FREQ=YEARLY;BYMONTH=3;BYDAY=-1SU
END:DAYLIGHT
BEGIN:STANDARD
TZOFFSETFROM:+0100
TZOFFSETTO:+0000
TZNAME:GMT
DTSTART:19701025T020000
RRULE:FREQ=YEARLY;BYMONTH=10;BYDAY=-1SU
END:STANDARD
END:VTIMEZONE
BEGIN:VEVENT
UID:4626108:Event:537676
DTSTAMP:20260421T045605Z
SUMMARY:Omni Breakfast Live! Teddington
DESCRIPTION:Omni Twickenham and Teddington Live! at The Anglers\r\n\r\
 nOur OMNI Business Development Network groups are returning to live ev
 ents and our Twickenham meetings are back in-person at last!\r\nIf you
  own your own business or work in an environment where you need to fin
 d long term new clients or customers then you have found an easy way t
 o do this.\r\nCOST: £10 - payable prior to the meeting.\r\nBOOKING: 
 Please REGISTER to take part here... \r\nMAP \r\n-------------------
 -------------------\r\nFind more Omni Local Networking Groups here on
  NiS...\r\nFor more information, please visit the Omni Local website 
 here...\n\nFor more information visit https://networkinginsurrey.co.uk
 /events/omni-local-breakfast-live-teddington-2
DTSTART;TZID=Europe/London:20230427T074500
DTEND;TZID=Europe/London:20230427T093000
CATEGORIES:breakfast, twickenham, b2b, omni
LOCATION:The Anglers TW11 9NR
WEBSITE:http://omnilocalbusinessnetworking.com/
URL:http://omnilocalbusinessnetworking.com/
CONTACT:07898 870 870
ORGANIZER:John Gower and Jim Sykes
ATTACH;FMTTYPE="image/jpeg":https://storage.ning.com/topology/rest/1.0
 /file/get/10880789494?profile=original
ATTENDEE;ROLE=REQ-PARTICIPANT;PARTSTAT=ACCEPTED;RSVP=TRUE;CN="John Gow
 er":https://networkinginsurrey.co.uk/profile/John
END:VEVENT
END:VCALENDAR
