BEGIN:VCALENDAR
PRODID:NingEventWidget-v1
VERSION:2.0
METHOD:PUBLISH
BEGIN:VTIMEZONE
TZID:Europe/London
X-LIC-LOCATION:Europe/London
BEGIN:DAYLIGHT
TZOFFSETFROM:+0000
TZOFFSETTO:+0100
TZNAME:BST
DTSTART:19700329T010000
RRULE:FREQ=YEARLY;BYMONTH=3;BYDAY=-1SU
END:DAYLIGHT
BEGIN:STANDARD
TZOFFSETFROM:+0100
TZOFFSETTO:+0000
TZNAME:GMT
DTSTART:19701025T020000
RRULE:FREQ=YEARLY;BYMONTH=10;BYDAY=-1SU
END:STANDARD
END:VTIMEZONE
BEGIN:VEVENT
UID:4626108:Event:104120
DTSTAMP:20260424T052756Z
SUMMARY:Omni Local Breakfast, Kingston
DESCRIPTION:Omni Local Kingston & Surbiton Business Networking at The 
 Brook Kingston Lodge Hotel\r\n\r\nIf you own your own business or work
  in an environment where you need to find long term new clients or cus
 tomers then you have found an easy way to do this!\r\nOn top of this y
 ou can come to one of our FREE Seminars after the breakfast meeting!\r
 \nCome and meet theÂ Omni Kingston Team: Â Jonathan HughesÂ & Felicity
  Leicester. We get booked up in advance, so please reserve your place 
 early!!!Â \r\nMEETING FORMAT -\r\n07:30Â - Open Networking & Registrat
 ion Best to get there early! 07:45Â - Breakfast is served & Opening of
  the meeting from the Group Director 07:50Â - Start 1 Minute RoundÂ  0
 8:15Â - End of 1 Minute Round 08:15Â - 1-2-1 Meeting Set UpÂ  Â Pick s
 omeone you might need to help your business or who can help yours! 08:
 20Â - Time for Pitch Platform & Question Time If you want to do this, 
 you must be a member 08:30Â - End of Question Time Use this time to ge
 t tips from an expert 08.35Â - Start 1-2-1 Meeting Please remember thi
 s a chance to get to know someone! Donâ€™t worry if you have not spoke
 n to everyone. Youâ€™ll get a chance later. 08:50Â - End 1-2-1 Meeting
 s & Back to your spot 08:55Â - Members & Networking Events Â Please le
 t us know if you have something coming up. We will tell everyone. 09:0
 0Â - Time for TT&Ts! Tips, Testimonials and Thank You Time. Please fee
 l free to tell everyone about someone who has given you business or so
 meone you have worked with! 09:15Â - Meeting Close - - SpeedSet Up for
  Seminar & Refresh Coffees and Teas 09:30Â -Â 10:15Â FREE Â Speed Semi
 narÂ \r\nFor more info - Please visitÂ our website here...\r\nCOST:Â Â
 £13 meeting fee including breakfast (cash on the door, pre-booking ess
 ential please!)\r\nBOOKING:Â Please CLICK HEREÂ to register and book i
 n or email sales.omnilocal@gmail.comÂ to reserve your place - or call 
 John on 07898 870 870\r\nMAP \r\n-------------------------------------
 -\r\nFind more Omni Local Networking GroupsÂ here on NiS...\n\nFor mor
 e information visit https://networkinginsurrey.co.uk/events/omni-local
 -breakfast-kingston-838
DTSTART;TZID=Europe/London:20190228T073000
DTEND;TZID=Europe/London:20190228T091500
CATEGORIES:breakfast, kingston, surbiton, b2b
LOCATION:The Brook Kingston Lodge Hotel KT2 7NP
WEBSITE:http://omnilocalbusinessnetworking.com/
URL:http://omnilocalbusinessnetworking.com/
CONTACT:07898 870 870
ORGANIZER:Jonathan Hughes and Fellcity Leicester
ATTACH;FMTTYPE="image/jpeg":https://storage.ning.com/topology/rest/1.0
 /file/get/250470414?profile=original
ATTENDEE;ROLE=REQ-PARTICIPANT;PARTSTAT=ACCEPTED;RSVP=TRUE;CN="John Gow
 er":https://networkinginsurrey.co.uk/profile/John
END:VEVENT
END:VCALENDAR
