BEGIN:VCALENDAR
PRODID:NingEventWidget-v1
VERSION:2.0
METHOD:PUBLISH
BEGIN:VTIMEZONE
TZID:Europe/London
X-LIC-LOCATION:Europe/London
BEGIN:DAYLIGHT
TZOFFSETFROM:+0000
TZOFFSETTO:+0100
TZNAME:BST
DTSTART:19700329T010000
RRULE:FREQ=YEARLY;BYMONTH=3;BYDAY=-1SU
END:DAYLIGHT
BEGIN:STANDARD
TZOFFSETFROM:+0100
TZOFFSETTO:+0000
TZNAME:GMT
DTSTART:19701025T020000
RRULE:FREQ=YEARLY;BYMONTH=10;BYDAY=-1SU
END:STANDARD
END:VTIMEZONE
BEGIN:VEVENT
UID:4626108:Event:186496
DTSTAMP:20260422T041352Z
SUMMARY:Omni Local Breakfast, Kingston
DESCRIPTION:Omni Local Kingston & Surbiton Business Networking at The 
 Brook Kingston Lodge Hotel\n\nIf you own your own business or work in 
 an environment where you need to find long term new clients or custome
 rs then you have found an easy way to do this!\nOn top of this you can
  come to one of our FREE Seminars after the breakfast meeting!\nCome a
 nd meet the Omni Kingston Team:  Jonathan Hughes & Felicity Leicest
 er. We get booked up in advance, so please reserve your place early!!!
  \nMEETING FORMAT -\n07:30 - Open Networking & Registration Best to 
 get there early! 08:00 - Breakfast is served & Opening of the meeting
  from the Group Director 08:20 - Start 1 Minute Round  08:40 - 1-2-
 1 Meeting Set Up  Pick someone you might need to help your business o
 r who can help yours! 08:45 - Time for Pitch Platform & Question Time
  -If you want to do this, you must be a member 09.00 - Start 1-2-1 Me
 eting Please remember this a chance to get to know someone!  Don’t 
 worry if you have not spoken to everyone. You’ll get a chance later.
  09:15 - Members & Networking Events Please let us know if you have s
 omething coming up. We will tell everyone. 09:20 - Time for TT&Ts! Ti
 ps, Testimonials and Thank You Time. Please feel free to tell everyone
  about someone who has given you business or someone you have worked w
 ith! 09:30 - Meeting Close\nFor more info - Please visit our website
  here...\nCOST: £13 meeting fee including breakfast (cash on the doo
 r, pre-booking essential please!)\nBOOKING: Please CLICK HERE to reg
 ister and book in or email sales.omnilocal@gmail.com to reserve your 
 place - or call John on 07898 870 870\nMAP\n--------------------------
 ------------\nFind more Omni Local Networking Groups here on NiS...\n
 \nFor more information visit https://networkinginsurrey.co.uk/events/o
 mni-local-breakfast-kingston-336
DTSTART;TZID=Europe/London:20190801T073000
DTEND;TZID=Europe/London:20190801T091500
CATEGORIES:breakfast, kingston, surbiton, b2b
LOCATION:The Brook Kingston Lodge Hotel KT2 7NP
WEBSITE:http://omnilocalbusinessnetworking.com/
URL:http://omnilocalbusinessnetworking.com/
CONTACT:07898 870 870
ORGANIZER:Jonathan Hughes and Fellcity Leicester
ATTACH;FMTTYPE="image/jpeg":https://storage.ning.com/topology/rest/1.0
 /file/get/250470414?profile=original
ATTENDEE;ROLE=REQ-PARTICIPANT;PARTSTAT=ACCEPTED;RSVP=TRUE;CN="John Gow
 er":https://networkinginsurrey.co.uk/profile/John
END:VEVENT
END:VCALENDAR
