BEGIN:VCALENDAR
PRODID:NingEventWidget-v1
VERSION:2.0
METHOD:PUBLISH
BEGIN:VTIMEZONE
TZID:Europe/London
X-LIC-LOCATION:Europe/London
BEGIN:DAYLIGHT
TZOFFSETFROM:+0000
TZOFFSETTO:+0100
TZNAME:BST
DTSTART:19700329T010000
RRULE:FREQ=YEARLY;BYMONTH=3;BYDAY=-1SU
END:DAYLIGHT
BEGIN:STANDARD
TZOFFSETFROM:+0100
TZOFFSETTO:+0000
TZNAME:GMT
DTSTART:19701025T020000
RRULE:FREQ=YEARLY;BYMONTH=10;BYDAY=-1SU
END:STANDARD
END:VTIMEZONE
BEGIN:VEVENT
UID:4626108:Event:101828
DTSTAMP:20260421T205145Z
SUMMARY:Omni Local Breakfast, Kingston
DESCRIPTION:Omni Local Kingston & Surbiton Business Networking at The 
 Brook Kingston Lodge Hotel\n\nIf you own your own business or work in 
 an environment where you need to find long term new clients or custome
 rs then you have found an easy way to do this!\nOn top of this you can
  come to one of our FREE Seminars after the breakfast meeting!\nCome a
 nd meet the Omni Kingston Team: David Wimblett & Felicity Leicester
 . We get booked up in advance, so please reserve your place early!!! 
 \nMEETING FORMAT -\n07:30 - Open Networking & Registration Best to ge
 t there early! 07:45 - Breakfast is served & Opening of the meeting f
 rom the Group Director 07:50 - Start 1 Minute Round  08:15 - End of
  1 Minute Round 08:15 - 1-2-1 Meeting Set Up   Pick someone you mig
 ht need to help your business or who can help yours! 08:20 - Time for
  Pitch Platform & Question Time If you want to do this, you must be a 
 member 08:30 - End of Question Time Use this time to get tips from an
  expert 08.35 - Start 1-2-1 Meeting Please remember this a chance to 
 get to know someone! Don’t worry if you have not spoken to everyone.
  You’ll get a chance later. 08:50 - End 1-2-1 Meetings & Back to yo
 ur spot 08:55 - Members & Networking Events  Please let us know if y
 ou have something coming up. We will tell everyone. 09:00 - Time for 
 TT&Ts! Tips, Testimonials and Thank You Time. Please feel free to tell
  everyone about someone who has given you business or someone you have
  worked with! 09:15 - Meeting Close - - SpeedSet Up for Seminar & Ref
 resh Coffees and Teas 09:30 - 10:15 FREE  Speed Seminar \nFor mor
 e info - Please visit our website here...\nCOST: £12 meeting fee in
 cluding breakfast (cash on the door, pre-booking essential please!)\nB
 OOKING: Please CLICK HERE to register and book in or email sales.omn
 ilocal@gmail.com to reserve your place - or call John on 07898 870 87
 0\nMAP\n--------------------------------------\nFind more Omni Local N
 etworking Groups here on NiS...\n\nFor more information visit https:/
 /networkinginsurrey.co.uk/events/omni-local-breakfast-kingston-296
DTSTART;TZID=Europe/London:20181122T073000
DTEND;TZID=Europe/London:20181122T091500
CATEGORIES:breakfast, kingston, surbiton, b2b
LOCATION:The Brook Kingston Lodge Hotel KT2 7NP
WEBSITE:http://omnilocalbusinessnetworking.com/
URL:http://omnilocalbusinessnetworking.com/
CONTACT:07898 870 870
ORGANIZER:David Wimblett and Fellcity Leicester
ATTACH;FMTTYPE="image/jpeg":http://storage.ning.com/topology/rest/1.0/
 file/get/1716582246?profile=original
ATTENDEE;ROLE=REQ-PARTICIPANT;PARTSTAT=ACCEPTED;RSVP=TRUE;CN="John Gow
 er":https://networkinginsurrey.co.uk/profile/John
END:VEVENT
END:VCALENDAR
