BEGIN:VCALENDAR
PRODID:NingEventWidget-v1
VERSION:2.0
METHOD:PUBLISH
BEGIN:VTIMEZONE
TZID:Europe/London
X-LIC-LOCATION:Europe/London
BEGIN:DAYLIGHT
TZOFFSETFROM:+0000
TZOFFSETTO:+0100
TZNAME:BST
DTSTART:19700329T010000
RRULE:FREQ=YEARLY;BYMONTH=3;BYDAY=-1SU
END:DAYLIGHT
BEGIN:STANDARD
TZOFFSETFROM:+0100
TZOFFSETTO:+0000
TZNAME:GMT
DTSTART:19701025T020000
RRULE:FREQ=YEARLY;BYMONTH=10;BYDAY=-1SU
END:STANDARD
END:VTIMEZONE
BEGIN:VEVENT
UID:4626108:Event:86931
DTSTAMP:20260424T074938Z
SUMMARY:Omni Local Breakfast, Hampton
DESCRIPTION:Omni Local Business Networking -  Twickenham & Teddington
  Group\n\nIf you own your own business or work in an environment where
  you need to find long term new clients or customers then you have fou
 nd an easy way to do this!\nOn top of this you can come to one of our 
 FREE Seminars after the breakfast meeting!\nCome and meet the Omni Twi
 ckenham & Teddington Team: Katy Spragg, Janine Kirkland & Claire O'Con
 nell. We get booked up in advance, so please reserve your place early!
 !!\nMEETING FORMAT -\n07:30 - Open Networking & Registration Best to g
 et there early! 07:45 - Breakfast is served & Opening of the meeting f
 rom the Group Director 07:50 - Start 1 Minute Round  08:15 - End of 1 
 Minute Round 08:15 - 1-2-1 Meeting Set Up   Pick someone you might ne
 ed to help your business or who can help yours! 08:20 - Time for Pitch
  Platform & Question Time If you want to do this, you must be a member
  08:30 - End of Question Time Use this time to get tips from an expert
  08.35 - Start 1-2-1 Meeting  Please remember this a chance to get to
  know someone!  Don’t worry if you have not spoken to everyone. You
 ’ll get a chance later. 08:50 - End 1-2-1 Meetings & Back to your sp
 ot 08:55 - Members & Networking Events  Please let us know if you hav
 e something coming up. We will tell everyone. 09:00 - Time for TT&Ts! 
 Tips, Testimonials and Thank You Time. Please feel free to tell everyo
 ne about someone who has given you business or someone you have worked
  with! 09:15 - Meeting Close - - SpeedSet Up for Seminar & Refresh Cof
 fees and Teas 09:30 - 10:15 FREE  Speed Seminar \nFor more info - 
 Please visit our website here...\nCOST: £12 meeting fee including 
 breakfast (cash on the door, pre-booking essential please!)\nBOOKING:
  Please CLICK HERE to register or send us an email Twickenham.OLBN@
 gmail.com to reserve your place -   or call  Janine on 020 8234 610
 4 or John on 07898 870 870\nMAP\n-------------------------------------
 -\nFind more Omni Local Networking Groups here on NiS...\n\nFor more 
 information visit https://networkinginsurrey.co.uk/events/omni-local-b
 reakfast-hampton-18
DTSTART;TZID=Europe/London:20170309T073000
DTEND;TZID=Europe/London:20170309T091500
CATEGORIES:breakfast, twickenham, teddington, b2b
LOCATION:David Lloyd Gym  TW2 5JD
WEBSITE:http://omnilocalbusinessnetworking.com/index.php/our-meetings/
 2016-03-23-10-44-44/by-date/9-twickenham-teddington-launch
URL:http://omnilocalbusinessnetworking.com/index.php/our-meetings/2016
 -03-23-10-44-44/by-date/9-twickenham-teddington-launch
CONTACT:07898 870 870
ORGANIZER;CN="John Gower":https://networkinginsurrey.co.uk/profile/Joh
 n
ATTACH;FMTTYPE="image/jpeg":http://storage.ning.com/topology/rest/1.0/
 file/get/2591455346?profile=original
ATTENDEE;ROLE=REQ-PARTICIPANT;PARTSTAT=ACCEPTED;RSVP=TRUE;CN="John Gow
 er":https://networkinginsurrey.co.uk/profile/John
END:VEVENT
END:VCALENDAR
