BEGIN:VCALENDAR
PRODID:NingEventWidget-v1
VERSION:2.0
METHOD:PUBLISH
BEGIN:VTIMEZONE
TZID:Europe/London
X-LIC-LOCATION:Europe/London
BEGIN:DAYLIGHT
TZOFFSETFROM:+0000
TZOFFSETTO:+0100
TZNAME:BST
DTSTART:19700329T010000
RRULE:FREQ=YEARLY;BYMONTH=3;BYDAY=-1SU
END:DAYLIGHT
BEGIN:STANDARD
TZOFFSETFROM:+0100
TZOFFSETTO:+0000
TZNAME:GMT
DTSTART:19701025T020000
RRULE:FREQ=YEARLY;BYMONTH=10;BYDAY=-1SU
END:STANDARD
END:VTIMEZONE
BEGIN:VEVENT
UID:4626108:Event:104122
DTSTAMP:20260424T052700Z
SUMMARY:Omni Local Breakfast, Guildford
DESCRIPTION:Omni Local - Guildford & Woking Group\n\nIf you own your o
 wn business or work in an environment where you need to find long term
  new clients or customers then you have found an easy way to do this!\
 nOn top of this you can come to one of our FREE Seminars after the bre
 akfast meeting!\nCome and meet the Omni Guildford and Woking Host:  J
 ohn Gower. We get booked up in advance, so please reserve your place e
 arly!!!\nMEETING FORMAT -\n07:30 - Open Networking & Registration Best
  to get there early! 07:45 - Breakfast is served & Opening of the meet
 ing from the Group Director 07:50 - Start 1 Minute Round  08:15 - End 
 of 1 Minute Round 08:15 - 1-2-1 Meeting Set Up   Pick someone you mig
 ht need to help your business or who can help yours! 08:20 - Time for 
 Pitch Platform & Question Time -If you want to do this, you must be a 
 member 08:30 - End of Question Time Use this time to get tips from an 
 expert 08.35 - Start 1-2-1 Meeting  Please remember this a chance to 
 get to know someone!  Don’t worry if you have not spoken to everyon
 e. You’ll get a chance later. 08:50 - End 1-2-1 Meetings & Back to y
 our spot 08:55 - Members & Networking Events  Please let us know if y
 ou have something coming up. We will tell everyone. 09:00 - Time for T
 T&Ts! Tips, Testimonials and Thank You Time. Please feel free to tell 
 everyone about someone who has given you business or someone you have 
 worked with! 09:15 - Meeting Close - - Set Up for Seminar & Refresh Co
 ffees and Teas\n09:30 - 10:15 FREE Speed Seminar \nFor more info - 
 Please visit our website here...\nCOST: £13 meeting fee including br
 eakfast (cash on the door, pre-booking essential please!)\nBOOKING: P
 lease CLICK HERE to register or send us an email to reserve your plac
 e - sales.omnilocal@gmail.com or call John on 07898 870 870\nMAP\n---
 -----------------------------------\nFind more Omni Local Networking G
 roups here on NiS...\n\nFor more information visit https://networking
 insurrey.co.uk/events/omni-local-breakfast-guildford-12
DTSTART;TZID=Europe/London:20190301T073000
DTEND;TZID=Europe/London:20190301T091500
CATEGORIES:breakfast, weybridge, morden, b2b
LOCATION:The Worplesdon Place Hotel GU3 3RY
WEBSITE:https://www.omnilocalbusinessnetworking.com/our-meetings/find-
 a-meeting/upcoming
URL:https://www.omnilocalbusinessnetworking.com/our-meetings/find-a-me
 eting/upcoming
CONTACT:07898 870 870
ORGANIZER;CN="John Gower":https://networkinginsurrey.co.uk/profile/Joh
 n
ATTACH;FMTTYPE="image/jpeg":https://storage.ning.com/topology/rest/1.0
 /file/get/628723340?profile=original
ATTENDEE;ROLE=REQ-PARTICIPANT;PARTSTAT=ACCEPTED;RSVP=TRUE;CN="John Gow
 er":https://networkinginsurrey.co.uk/profile/John
END:VEVENT
END:VCALENDAR
