BEGIN:VCALENDAR
PRODID:NingEventWidget-v1
VERSION:2.0
METHOD:PUBLISH
BEGIN:VTIMEZONE
TZID:Europe/London
X-LIC-LOCATION:Europe/London
BEGIN:DAYLIGHT
TZOFFSETFROM:+0000
TZOFFSETTO:+0100
TZNAME:BST
DTSTART:19700329T010000
RRULE:FREQ=YEARLY;BYMONTH=3;BYDAY=-1SU
END:DAYLIGHT
BEGIN:STANDARD
TZOFFSETFROM:+0100
TZOFFSETTO:+0000
TZNAME:GMT
DTSTART:19701025T020000
RRULE:FREQ=YEARLY;BYMONTH=10;BYDAY=-1SU
END:STANDARD
END:VTIMEZONE
BEGIN:VEVENT
UID:4626108:Event:86972
DTSTAMP:20260424T173311Z
SUMMARY:Omni Local Breakfast, Farnborough
DESCRIPTION:Omni Local Business Networking at Southwood Golf Course\n\
 nIf you own your own business or work in an environment where you need
  to find long term new clients or customers then you have found an eas
 y way to do this!\nOn top of this you can come to one of our FREE Semi
 nars after the breakfast meeting!\nCome and meet the Omni Farnborough
  Team: Martin Castle and Andy Craig. We get booked up in advance, so 
 please reserve your place early!!!\nMEETING FORMAT -\n07:30 - Open Net
 working & Registration Best to get there early! 07:45 - Breakfast is s
 erved & Opening of the meeting from the Group Director 07:50 - Start 1
  Minute Round  08:15 - 1-2-1 Meeting Set Up  Pick someone you might ne
 ed to help your business or who can help yours! 08:20 - Pitch Platform
   & Question Time  (If you want to do this, you must be a member) 08
 .35 - Start 1-2-1 Meeting  Please remember this a chance to get to kn
 ow someone!  Don’t worry if you have not spoken to everyone. You’
 ll get a chance later. 08:55 - Members & Networking Events  Please le
 t us know if you have something coming up. We will tell everyone. 09:0
 0 - Time for TT&Ts! Tips, Testimonials and Thank You Time. Please feel
  free to tell everyone about someone who has given you business or som
 eone you have worked with! 09:15 - Meeting Close - - Set Up for Semina
 r & Refresh Coffees and Teas 09:30 - 10:15 FREE Speed Seminar Topic:
  to be confirmed...\nFor more info - Please visit our website here...
 \nCOST: £12 meeting fee including breakfast (cash on the door, pre-b
 ooking essential please!)\nBOOKING: Please CLICK HERE to register to
  attend or email sales.omnilocal@gmail.com to reserve your place - or
  call John on 07898 870 870\nMAP\n------------------------------------
 --\nFind more Omni Local Networking Groups here on NiS...\n\nFor more
  information visit https://networkinginsurrey.co.uk/events/omni-local-
 breakfast-farnborough-17
DTSTART;TZID=Europe/London:20170314T073000
DTEND;TZID=Europe/London:20170314T091500
CATEGORIES:breakfast, farnborough, farnham, b2b
LOCATION:The Pantry at Southwood Golf Course GU14 0LJ
WEBSITE:http://omnilocalbusinessnetworking.com/
URL:http://omnilocalbusinessnetworking.com/
CONTACT:07898 870 870
ORGANIZER;CN="John Gower":https://networkinginsurrey.co.uk/profile/Joh
 n
ATTACH;FMTTYPE="image/jpeg":http://storage.ning.com/topology/rest/1.0/
 file/get/2591453705?profile=original
ATTENDEE;ROLE=REQ-PARTICIPANT;PARTSTAT=ACCEPTED;RSVP=TRUE;CN="John Gow
 er":https://networkinginsurrey.co.uk/profile/John
END:VEVENT
END:VCALENDAR
