BEGIN:VCALENDAR
PRODID:NingEventWidget-v1
VERSION:2.0
METHOD:PUBLISH
BEGIN:VTIMEZONE
TZID:Europe/London
X-LIC-LOCATION:Europe/London
BEGIN:DAYLIGHT
TZOFFSETFROM:+0000
TZOFFSETTO:+0100
TZNAME:BST
DTSTART:19700329T010000
RRULE:FREQ=YEARLY;BYMONTH=3;BYDAY=-1SU
END:DAYLIGHT
BEGIN:STANDARD
TZOFFSETFROM:+0100
TZOFFSETTO:+0000
TZNAME:GMT
DTSTART:19701025T020000
RRULE:FREQ=YEARLY;BYMONTH=10;BYDAY=-1SU
END:STANDARD
END:VTIMEZONE
BEGIN:VEVENT
UID:4626108:Event:87835
DTSTAMP:20260424T052542Z
SUMMARY:Omni Local Breakfast, Farleigh
DESCRIPTION:Omni Local Business Networking at Farleigh Golf Club\n\nIf
  you own your own business or work in an environment where you need to
  find long term new clients or customers then you have found an easy w
 ay to do this!\nOn top of this you can come to one of our FREE Seminar
 s after the breakfast meeting!\nCome and meet the Omni Farleigh Team: 
 Philip Mallourides & Fiona Tothill. We get booked up in advance, so pl
 ease reserve your place early!!!\nMEETING FORMAT -\n07:30 - Open Netwo
 rking & Registration Best to get there early! 07:45 - Breakfast is ser
 ved & Opening of the meeting from the Group Director 07:50 - Start 1 M
 inute Round  08:15 - 1-2-1 Meeting Set Up  Pick someone you might need
  to help your business or who can help yours! 08:20 - Pitch Platform Â
  & Question Time Â (If you want to do this, you must be a member) 08.3
 5 - Start 1-2-1 Meeting Â Please remember this a chance to get to know
  someone! Â Donâ€™t worry if you have not spoken to everyone. Youâ€™ll
  get a chance later. 08:55 - Members & Networking Events Â Please let 
 us know if you have something coming up. We will tell everyone. 09:00 
 - Time for TT&Ts! Tips, Testimonials and Thank You Time. Please feel f
 ree to tell everyone about someone who has given you business or someo
 ne you have worked with! 09:15 - Meeting Close - - Set Up for Seminar 
 & Refresh Coffees and Teas 09:30 -Â 10:15Â FREE Speed Seminar Topic: t
 o be confirmed...\nFor more info - Please visitÂ our website here...\n
 COST:Â Â£12 meeting fee including breakfast (cash on the door, pre-boo
 king essential please!)\nBOOKING:Â Please CLICK HEREÂ to register to a
 ttend or email sales.omnilocal@gmail.comÂ to reserve your place - or c
 all John on 07898 870 870\nMAP\n--------------------------------------
 \nFind more Omni Local Networking GroupsÂ here on NiS...\nÂ \n\nFor mo
 re information visit https://networkinginsurrey.co.uk/events/omni-loca
 l-breakfast-farleigh-1
DTSTART;TZID=Europe/London:20170406T073000
DTEND;TZID=Europe/London:20170406T091500
CATEGORIES:breakfast, farleigh, omni_local
LOCATION:Farleigh Golf Club and Restaurant CR6 9PE
WEBSITE:
URL:
CONTACT:
ORGANIZER;CN="John Gower":https://networkinginsurrey.co.uk/profile/Joh
 n
ATTACH;FMTTYPE="image/jpeg":http://storage.ning.com/topology/rest/1.0/
 file/get/2470856954?profile=original
ATTENDEE;ROLE=REQ-PARTICIPANT;PARTSTAT=ACCEPTED;RSVP=TRUE;CN="John Gow
 er":https://networkinginsurrey.co.uk/profile/John
END:VEVENT
END:VCALENDAR
