BEGIN:VCALENDAR
PRODID:NingEventWidget-v1
VERSION:2.0
METHOD:PUBLISH
BEGIN:VTIMEZONE
TZID:Europe/London
X-LIC-LOCATION:Europe/London
BEGIN:DAYLIGHT
TZOFFSETFROM:+0000
TZOFFSETTO:+0100
TZNAME:BST
DTSTART:19700329T010000
RRULE:FREQ=YEARLY;BYMONTH=3;BYDAY=-1SU
END:DAYLIGHT
BEGIN:STANDARD
TZOFFSETFROM:+0100
TZOFFSETTO:+0000
TZNAME:GMT
DTSTART:19701025T020000
RRULE:FREQ=YEARLY;BYMONTH=10;BYDAY=-1SU
END:STANDARD
END:VTIMEZONE
BEGIN:VEVENT
UID:4626108:Event:101126
DTSTAMP:20260422T054237Z
SUMMARY:NEW VENUE: Omni Local Breakfast, Epsom
DESCRIPTION:Epsom OMNI Local Business Networking at The Haywain\n\nIf 
 you own your own business or work in an environment where you need to 
 find long term new clients or customers then you have found an easy wa
 y to do this!\nOn top of this you can come to one of our FREE Seminars
  after the breakfast meeting!\nThis group originally met in Worcester 
 Park, but we've moved! Come and meet the Omni Epsom / Worcester Park 
 Team: Tracy Landsberg and Chris Reynolds.\nWe get booked up in advanc
 e, so please reserve your place early!!!\nMEETING FORMAT -\n08.00 - Op
 en Networking & Registration Best to get there early! 08.15 - Breakfas
 t is served & Opening of the meeting from the Group Director 08:20 - S
 tart 1 Minute Round  08:45 - 1-2-1 Meeting Set Up  Pick someone you mi
 ght be able to help in their business or who can help yours! 08:50 - P
 itch Platform from an Omni Member & Question Time (If you want to do
  this, you must be a member) 09.05 - Start 1-2-1 Meeting  Please reme
 mber this a chance to get to know someone!  Don’t worry if you have
  not spoken to everyone. You’ll get a chance later. 09:25 - Members 
 & Networking Events  Please let us know if you have something coming 
 up. We will tell everyone. 09:30 - Time for TT&Ts! Tips, Testimonials 
 and Thank You Time. Please feel free to tell everyone about someone wh
 o has given you business or someone you have worked with! 09:45 - Meet
 ing Close - - Set Up for Seminar & Refresh Coffees and Teas 10.00 - 1
 0:45 FREE Speed Seminar - Topic to be announced\nFor more info - Plea
 se visit our website here...\nCOST: £12 meeting fee including break
 fast (cash on the door, pre-booking essential please!)\nBOOKING: Plea
 se CLICK HERE to register or email sales.omnilocal@gmail.com to rese
 rve your place - or call John on 07898 870 870\nMAP\n-----------------
 ---------------------\nFind more Omni Local Networking Groups here on
  NiS...\n\nFor more information visit https://networkinginsurrey.co.uk
 /events/omni-local-breakfast-epsom-9
DTSTART;TZID=Europe/London:20181005T073000
DTEND;TZID=Europe/London:20181005T094500
CATEGORIES:breakfast, epsom, b2b
LOCATION:Haywain Brewers Fayre KT18 7LB
WEBSITE:http://omnilocalbusinessnetworking.com/
URL:http://omnilocalbusinessnetworking.com/
CONTACT:07898 870 870
ORGANIZER:Tracy Landsberg and Chris Reynolds
ATTACH;FMTTYPE="image/jpeg":http://storage.ning.com/topology/rest/1.0/
 file/get/1716582246?profile=original
ATTENDEE;ROLE=REQ-PARTICIPANT;PARTSTAT=ACCEPTED;RSVP=TRUE;CN="John Gow
 er":https://networkinginsurrey.co.uk/profile/John
END:VEVENT
END:VCALENDAR
