BEGIN:VCALENDAR
PRODID:NingEventWidget-v1
VERSION:2.0
METHOD:PUBLISH
BEGIN:VTIMEZONE
TZID:Europe/London
X-LIC-LOCATION:Europe/London
BEGIN:DAYLIGHT
TZOFFSETFROM:+0000
TZOFFSETTO:+0100
TZNAME:BST
DTSTART:19700329T010000
RRULE:FREQ=YEARLY;BYMONTH=3;BYDAY=-1SU
END:DAYLIGHT
BEGIN:STANDARD
TZOFFSETFROM:+0100
TZOFFSETTO:+0000
TZNAME:GMT
DTSTART:19701025T020000
RRULE:FREQ=YEARLY;BYMONTH=10;BYDAY=-1SU
END:STANDARD
END:VTIMEZONE
BEGIN:VEVENT
UID:4626108:Event:87813
DTSTAMP:20260424T092030Z
SUMMARY:Omni Local Breakfast, Croydon
DESCRIPTION:Omni Local Business Networking - South Croydon Group\n\nIf
  you own your own business or work in an environment where you need to
  find long term new clients or customers then you have found an easy w
 ay to do this!\nOn top of this you can come to one of our FREE Seminar
 s after the breakfast meeting!\nWe get booked up in advance, so please
  reserve your place early!!!\nMEETING FORMAT -\n07:30 - Open Networkin
 g & Registration Best to get there early! 07:45 - Breakfast is served 
 & Opening of the meeting from the Group Director 07:50 - Start 1 Minut
 e Round  08:15 - End of 1 Minute Round 08:15 - 1-2-1 Meeting Set Up  Â
  Pick someone you might need to help your business or who can help you
 rs! 08:20 - Time for Pitch Platform & Question Time If you want to do 
 this, you must be a member 08:30 - End of Question Time Use this time 
 to get tips from an expert 08.35 - Start 1-2-1 Meeting Â Please rememb
 er this a chance to get to know someone! Â Donâ€™t worry if you have n
 ot spoken to everyone. Youâ€™ll get a chance later. 08:50 - End 1-2-1 
 Meetings & Back to your spot 08:55 - Members & Networking Events Â Ple
 ase let us know if you have something coming up. We will tell everyone
 . 09:00 - Time for TT&Ts! Tips, Testimonials and Thank You Time. Pleas
 e feel free to tell everyone about someone who has given you business 
 or someone you have worked with! 09:15 - Meeting Close - - SpeedSet Up
  for Seminar & Refresh Coffees and Teas 09:30 -Â 10:15Â FREE Â Speed S
 eminarÂ \nFor more info - Please visitÂ our website here...\nCOST:Â Â£
 12Â meeting fee including breakfastÂ (cash on the door, pre-booking es
 sential please!)\nBOOKING:Â Please CLICK HEREÂ to regiaster or emailÂ 
 sales.omnilocal@gmail.comÂ to reserve your place - or callÂ JohnÂ on 0
 7898 870 870\nMAP\n\n\nFor more information visit https://networkingin
 surrey.co.uk/events/omni-local-breakfast-croydon-7
DTSTART;TZID=Europe/London:20170328T073000
DTEND;TZID=Europe/London:20170328T091500
CATEGORIES:breakfast, croydon, b2b
LOCATION:The Coombe Lodge, Beefeater CR0 5RB
WEBSITE:http://omnilocalbusinessnetworking.com/index.php/our-meetings/
 2016-03-23-10-44-44/by-date/9-twickenham-teddington-launch
URL:http://omnilocalbusinessnetworking.com/index.php/our-meetings/2016
 -03-23-10-44-44/by-date/9-twickenham-teddington-launch
CONTACT:07898 870 870
ORGANIZER;CN="John Gower":https://networkinginsurrey.co.uk/profile/Joh
 n
ATTACH;FMTTYPE="image/jpeg":http://storage.ning.com/topology/rest/1.0/
 file/get/2591455346?profile=original
ATTENDEE;ROLE=REQ-PARTICIPANT;PARTSTAT=ACCEPTED;RSVP=TRUE;CN="John Gow
 er":https://networkinginsurrey.co.uk/profile/John
END:VEVENT
END:VCALENDAR
