BEGIN:VCALENDAR
PRODID:NingEventWidget-v1
VERSION:2.0
METHOD:PUBLISH
BEGIN:VTIMEZONE
TZID:Europe/London
X-LIC-LOCATION:Europe/London
BEGIN:DAYLIGHT
TZOFFSETFROM:+0000
TZOFFSETTO:+0100
TZNAME:BST
DTSTART:19700329T010000
RRULE:FREQ=YEARLY;BYMONTH=3;BYDAY=-1SU
END:DAYLIGHT
BEGIN:STANDARD
TZOFFSETFROM:+0100
TZOFFSETTO:+0000
TZNAME:GMT
DTSTART:19701025T020000
RRULE:FREQ=YEARLY;BYMONTH=10;BYDAY=-1SU
END:STANDARD
END:VTIMEZONE
BEGIN:VEVENT
UID:4626108:Event:98560
DTSTAMP:20260422T223223Z
SUMMARY:Omni Local Breakfast, Croydon
DESCRIPTION:Omni Local Business Networking - South Croydon Group\r\n\r
 \nIf you own your own business or work in an environment where you nee
 d to find long term new clients or customers then you have found an ea
 sy way to do this!\r\nOn top of this you can come to one of our FREE S
 eminars after the breakfast meeting!\r\nCome and meet theÂ Omni South 
 Croydon Team: James BulmanÂ &Judy Campbell.Â We get booked up in advan
 ce, so please reserve your place early!!!\r\nMEETING FORMAT -\r\n07:30
  - Open Networking & Registration Best to get there early! 07:45 - Bre
 akfast is served & Opening of the meeting from the Group Director 07:5
 0 - Start 1 Minute Round  08:15 - End of 1 Minute Round 08:15 - 1-2-1 
 Meeting Set Up  Â Pick someone you might need to help your business or
  who can help yours! 08:20 - Time for Pitch Platform & Question Time I
 f you want to do this, you must be a member 08:30 - End of Question Ti
 me Use this time to get tips from an expert 08.35 - Start 1-2-1 Meetin
 g Â Please remember this a chance to get to know someone! Donâ€™t worr
 y if you have not spoken to everyone. Youâ€™ll get a chance later. 08:
 50 - End 1-2-1 Meetings & Back to your spot 08:55 - Members & Networki
 ng Events Â Please let us know if you have something coming up. We wil
 l tell everyone. 09:00 - Time for TT&Ts! Tips, Testimonials and Thank 
 You Time. Please feel free to tell everyone about someone who has give
 n you business or someone you have worked with! 09:15 - Meeting Close 
 - - SpeedSet Up for Seminar & Refresh Coffees and Teas 09:30 -Â 10:15Â
  FREE Â Speed SeminarÂ \r\nFor more info - Please visitÂ our website h
 ere...\r\nCOST:Â Â£12Â meeting fee including breakfastÂ (cash on the d
 oor, pre-booking essential please!)\r\nBOOKING:Â Please CLICK HEREÂ to
  register or emailÂ sales.omnilocal@gmail.comÂ to reserve your place -
  or callÂ JohnÂ on 07898 870 870\r\nMAP\r\n---------------------------
 ------------\r\nFind more local Omni events here on Networking in Surr
 ey...\r\n \n\nFor more information visit https://networkinginsurrey.co
 .uk/events/omni-local-breakfast-croydon-642
DTSTART;TZID=Europe/London:20180605T073000
DTEND;TZID=Europe/London:20180605T091500
CATEGORIES:breakfast, croydon, b2b, omni
LOCATION:The Coombe Lodge, Beefeater CR0 5RB
WEBSITE:http://omnilocalbusinessnetworking.com/index.php/our-meetings/
 2016-03-23-10-44-44/by-date/9-twickenham-teddington-launch
URL:http://omnilocalbusinessnetworking.com/index.php/our-meetings/2016
 -03-23-10-44-44/by-date/9-twickenham-teddington-launch
CONTACT:07898 870 870
ORGANIZER:James Bulman and Judy Campbell
ATTACH;FMTTYPE="image/jpeg":http://storage.ning.com/topology/rest/1.0/
 file/get/2470856954?profile=original
ATTENDEE;ROLE=REQ-PARTICIPANT;PARTSTAT=ACCEPTED;RSVP=TRUE;CN="Lord Ham
 ilton of Glencoe":https://networkinginsurrey.co.uk/profile/BrianIanHam
 ilton
ATTENDEE;ROLE=REQ-PARTICIPANT;PARTSTAT=ACCEPTED;RSVP=TRUE;CN="John Gow
 er":https://networkinginsurrey.co.uk/profile/John
END:VEVENT
END:VCALENDAR
