BEGIN:VCALENDAR
PRODID:NingEventWidget-v1
VERSION:2.0
METHOD:PUBLISH
BEGIN:VTIMEZONE
TZID:Europe/London
X-LIC-LOCATION:Europe/London
BEGIN:DAYLIGHT
TZOFFSETFROM:+0000
TZOFFSETTO:+0100
TZNAME:BST
DTSTART:19700329T010000
RRULE:FREQ=YEARLY;BYMONTH=3;BYDAY=-1SU
END:DAYLIGHT
BEGIN:STANDARD
TZOFFSETFROM:+0100
TZOFFSETTO:+0000
TZNAME:GMT
DTSTART:19701025T020000
RRULE:FREQ=YEARLY;BYMONTH=10;BYDAY=-1SU
END:STANDARD
END:VTIMEZONE
BEGIN:VEVENT
UID:4626108:Event:182798
DTSTAMP:20260422T145448Z
SUMMARY:Omni Local Breakfast, Croydon
DESCRIPTION:Omni Local Business Networking - South Croydon Group\r\n\r
 \nIf you own your own business or work in an environment where you nee
 d to find long term new clients or customers then you have found an ea
 sy way to do this!\r\nOn top of this you can come to one of our FREE S
 eminars after the breakfast meeting!\r\nCome and meet theÂ Omni South 
 Croydon Team: Richard PeersÂ & John Gower.Â We get booked up in advanc
 e, so please reserve your place early!!!\r\nMEETING FORMAT -\r\n07:30Â
  - Open Networking & Registration Best to get there early! 08:00Â - Br
 eakfast is served & Opening of the meeting from the Group Director 08:
 20Â - Start 1 Minute RoundÂ  08:40Â - 1-2-1 Meeting Set UpÂ  Pick some
 one you might need to help your business or who can help yours! 08:45Â
  - Time for Pitch Platform & Question Time -If you want to do this, yo
 u must be a member 09.00Â - Start 1-2-1 Meeting Please remember this a
  chance to get to know someone!Â  Donâ€™t worry if you have not spoken
  to everyone. Youâ€™ll get a chance later. 09:15Â - Members & Networki
 ng Events Please let us know if you have something coming up. We will 
 tell everyone. 09:20Â - Time for TT&Ts! Tips, Testimonials and Thank Y
 ou Time. Please feel free to tell everyone about someone who has given
  you business or someone you have worked with! 09:30Â - Meeting Close\
 r\nFor more info - Please visitÂ our website here...\r\nCOST:Â Â£13Â m
 eeting fee including breakfastÂ (cash on the door, pre-booking essenti
 al please!)\r\nBOOKING:Â Please CLICK HEREÂ to register or emailÂ sale
 s.omnilocal@gmail.comÂ to reserve your place - or callÂ JohnÂ on 07898
  870 870\r\nMAP\r\n---------------------------------------\r\nFind mor
 e local Omni events here on Networking in Surrey...\n\nFor more inform
 ation visit https://networkinginsurrey.co.uk/events/omni-local-breakfa
 st-croydon-292
DTSTART;TZID=Europe/London:20190730T073000
DTEND;TZID=Europe/London:20190730T091500
CATEGORIES:breakfast, croydon, b2b, omni
LOCATION:The Coombe Lodge, Beefeater CR0 5RB
WEBSITE:http://omnilocalbusinessnetworking.com/index.php/our-meetings/
 2016-03-23-10-44-44/by-date/9-twickenham-teddington-launch
URL:http://omnilocalbusinessnetworking.com/index.php/our-meetings/2016
 -03-23-10-44-44/by-date/9-twickenham-teddington-launch
CONTACT:07898 870 870
ORGANIZER:Richard Peers
ATTACH;FMTTYPE="image/jpeg":https://storage.ning.com/topology/rest/1.0
 /file/get/180326493?profile=original
ATTENDEE;ROLE=REQ-PARTICIPANT;PARTSTAT=ACCEPTED;RSVP=TRUE;CN="John Gow
 er":https://networkinginsurrey.co.uk/profile/John
END:VEVENT
END:VCALENDAR
