BEGIN:VCALENDAR
PRODID:NingEventWidget-v1
VERSION:2.0
METHOD:PUBLISH
BEGIN:VTIMEZONE
TZID:Europe/London
X-LIC-LOCATION:Europe/London
BEGIN:DAYLIGHT
TZOFFSETFROM:+0000
TZOFFSETTO:+0100
TZNAME:BST
DTSTART:19700329T010000
RRULE:FREQ=YEARLY;BYMONTH=3;BYDAY=-1SU
END:DAYLIGHT
BEGIN:STANDARD
TZOFFSETFROM:+0100
TZOFFSETTO:+0000
TZNAME:GMT
DTSTART:19701025T020000
RRULE:FREQ=YEARLY;BYMONTH=10;BYDAY=-1SU
END:STANDARD
END:VTIMEZONE
BEGIN:VEVENT
UID:4626108:Event:96620
DTSTAMP:20260423T053202Z
SUMMARY:NEW VENUE: Omni Local Lunch, Bagshot
DESCRIPTION:Bagshot OMNI Local Business Networking at The Three Marine
 rs\r\n\r\nIf you own your own business or work in an environment where
  you need to find long term new clients or customers then you have fou
 nd an easy way to do this!\r\nOn top of this you can come to one of ou
 r FREE Seminars after the breakfast meeting!\r\nCome and meet theÂ Omn
 i Camberley Team: Peter Bolton & Abi Shepherd. We get booked up in adv
 ance, so please reserve your place early!!!\r\nMEETING FORMAT -\r\n12.
 15 - Open Networking & Registration Best to get there early! 12.30 - B
 uffet-style lunch Opening of the meeting from the Group Director 12:40
 Â - Start 1 Minute Round  13:00 - 1-2-1 Meeting Set Up  Pick someone y
 ou might need to help your business or who can help yours! 13:10 - Pit
 ch Platform from an Omni MemberÂ & Question TimeÂ (If you want to do t
 his, you must be a member) 13.25 - Start 1-2-1 Meeting Â Please rememb
 er this a chance to get to know someone! Â Donâ€™t worry if you have n
 ot spoken to everyone. Youâ€™ll get a chance later. 13:45 - Members & 
 Networking Events Â Please let us know if you have something coming up
 . We will tell everyone. 13:50Â - Time for TT&Ts! Tips, Testimonials a
 nd Thank You Time. Please feel free to tell everyone about someone who
  has given you business or someone you have worked with! 14:00 - Meeti
 ng Close - - Set Up for Seminar & Refresh Coffees and Teas 14.00 -Â 14
 :30Â FREE Speed Seminar - Topic to be announced\r\nFor more info - Ple
 ase visitÂ our website here...\r\nCOST:Â Â£12Â meeting fee including b
 reakfast (cash on the door, pre-booking essential please!)\r\nBOOKING:
 Â PleaseÂ CLICK HEREÂ to register or emailÂ sales.omnilocal@gmail.comÂ
  to reserve your place - or callÂ JohnÂ on 07898 870 870\r\nMAP \r\n--
 ------------------------------------\r\nFind more Omni Local Networkin
 g GroupsÂ here on NiS...\n\nFor more information visit https://network
 inginsurrey.co.uk/events/omni-local-breakfast-bagshot
DTSTART;TZID=Europe/London:20180302T123000
DTEND;TZID=Europe/London:20180302T143000
CATEGORIES:breakfast, bagshot, b2b, omni
LOCATION:The Three Mariners GU19 5AW
WEBSITE:
URL:
CONTACT:
ORGANIZER:Peter Bolton and Abi Shepherd
ATTACH;FMTTYPE="image/jpeg":http://storage.ning.com/topology/rest/1.0/
 file/get/2470856954?profile=original
ATTENDEE;ROLE=REQ-PARTICIPANT;PARTSTAT=ACCEPTED;RSVP=TRUE;CN="John Gow
 er":https://networkinginsurrey.co.uk/profile/John
END:VEVENT
END:VCALENDAR
