BEGIN:VCALENDAR
PRODID:NingEventWidget-v1
VERSION:2.0
METHOD:PUBLISH
BEGIN:VTIMEZONE
TZID:Europe/London
X-LIC-LOCATION:Europe/London
BEGIN:DAYLIGHT
TZOFFSETFROM:+0000
TZOFFSETTO:+0100
TZNAME:BST
DTSTART:19700329T010000
RRULE:FREQ=YEARLY;BYMONTH=3;BYDAY=-1SU
END:DAYLIGHT
BEGIN:STANDARD
TZOFFSETFROM:+0100
TZOFFSETTO:+0000
TZNAME:GMT
DTSTART:19701025T020000
RRULE:FREQ=YEARLY;BYMONTH=10;BYDAY=-1SU
END:STANDARD
END:VTIMEZONE
BEGIN:VEVENT
UID:4626108:Event:533222
DTSTAMP:20260425T053606Z
SUMMARY:Omni Local Lunchtime LIVE! Camberley
DESCRIPTION:Omni Local Camberley Lunchtime LIVE!\r\n\r\nThe Bagshot 
 Bunch has moved... come and join us at our great new venue - live and 
 in-person!\r\nIf you own your own business or work in an environment w
 here you need to find long term new clients or customers then you have
  found an easy way to do this.\r\nCome and meet the Omni Camberley Te
 am - Jenny Thornton and Jane Redhead-Loughe\r\nCOST: £6 - payable p
 rior to the meeting.\r\nBOOKING: Please REGISTER to take part here...
  \r\nMAP\r\n--------------------------------------\r\nFind more Omni 
 Local Networking Groups here on NiS...\r\nFor more information, pleas
 e visit the Omni Local website here...\n\nFor more information visit 
 https://networkinginsurrey.co.uk/events/omni-local-bagshot-lunchtime-h
 ub-293
DTSTART;TZID=Europe/London:20220526T124500
DTEND;TZID=Europe/London:20220526T143000
CATEGORIES:lunch, bagshot, b2b, omni
LOCATION:Places Leisure GU15 3QH
WEBSITE:http://omnilocalbusinessnetworking.com/
URL:http://omnilocalbusinessnetworking.com/
CONTACT:07898 870 870
ORGANIZER:Jenny Thornton and Jane Redhead-Loughe
ATTACH;FMTTYPE="image/jpeg":https://storage.ning.com/topology/rest/1.0
 /file/get/8782485689?profile=original
ATTENDEE;ROLE=REQ-PARTICIPANT;PARTSTAT=ACCEPTED;RSVP=TRUE;CN="John Gow
 er":https://networkinginsurrey.co.uk/profile/John
END:VEVENT
END:VCALENDAR
