BEGIN:VCALENDAR
PRODID:NingEventWidget-v1
VERSION:2.0
METHOD:PUBLISH
BEGIN:VTIMEZONE
TZID:Europe/London
X-LIC-LOCATION:Europe/London
BEGIN:DAYLIGHT
TZOFFSETFROM:+0000
TZOFFSETTO:+0100
TZNAME:BST
DTSTART:19700329T010000
RRULE:FREQ=YEARLY;BYMONTH=3;BYDAY=-1SU
END:DAYLIGHT
BEGIN:STANDARD
TZOFFSETFROM:+0100
TZOFFSETTO:+0000
TZNAME:GMT
DTSTART:19701025T020000
RRULE:FREQ=YEARLY;BYMONTH=10;BYDAY=-1SU
END:STANDARD
END:VTIMEZONE
BEGIN:VEVENT
UID:4626108:Event:543973
DTSTAMP:20260420T080223Z
SUMMARY:Omni Local Afternoon Speed Networking Online
DESCRIPTION:Omni Local AfternoonÂ Speed Networking Hour\r\nThe NeedÂ  
 for SPEED!\r\nZoom Speed Networking with Omni is fast, furious and fun
 !\r\nIn the space of just one hour, you'll have a series of 1-2-1 meet
 ings with at least ten people - we don't hang around!Â \r\nTo join thi
 s meetingÂ on the day, please click the link we will send you.\r\nTo s
 ave time in advance please download theÂ Zoom App here...Â \r\nCOST: Â
 £6\r\nBOOKING: PleaseÂ REGISTER to take part here...Â \r\n------------
 --------------------------\r\nFind more Omni Local Networking GroupsÂ 
 here on NiS...\r\nFor more information, please visit theÂ Omni Local w
 ebsite here...\n\nFor more information visit https://networkinginsurre
 y.co.uk/events/omni-local-afternoon-speed-networking-online-3
DTSTART;TZID=Europe/London:20241028T170000
DTEND;TZID=Europe/London:20241028T180000
CATEGORIES:evening, speed, omni
LOCATION:Online only
WEBSITE:http://omnilocalbusinessnetworking.com/
URL:http://omnilocalbusinessnetworking.com/
CONTACT:07898 870 870
ORGANIZER;CN="John Gower":https://networkinginsurrey.co.uk/profile/Joh
 n
ATTACH;FMTTYPE="image/jpeg":https://storage.ning.com/topology/rest/1.0
 /file/get/8744585891?profile=original
ATTENDEE;ROLE=REQ-PARTICIPANT;PARTSTAT=ACCEPTED;RSVP=TRUE;CN="John Gow
 er":https://networkinginsurrey.co.uk/profile/John
END:VEVENT
END:VCALENDAR
