BEGIN:VCALENDAR
PRODID:NingEventWidget-v1
VERSION:2.0
METHOD:PUBLISH
BEGIN:VTIMEZONE
TZID:Europe/London
X-LIC-LOCATION:Europe/London
BEGIN:DAYLIGHT
TZOFFSETFROM:+0000
TZOFFSETTO:+0100
TZNAME:BST
DTSTART:19700329T010000
RRULE:FREQ=YEARLY;BYMONTH=3;BYDAY=-1SU
END:DAYLIGHT
BEGIN:STANDARD
TZOFFSETFROM:+0100
TZOFFSETTO:+0000
TZNAME:GMT
DTSTART:19701025T020000
RRULE:FREQ=YEARLY;BYMONTH=10;BYDAY=-1SU
END:STANDARD
END:VTIMEZONE
BEGIN:VEVENT
UID:4626108:Event:547894
DTSTAMP:20260421T231340Z
SUMMARY:Omni Farnham Coffee Time Live!
DESCRIPTION:Omni Farnham Breakfast Live! at the Six Bells\r\n\r\nIf yo
 u own your own business or work in an environment where you need to fi
 nd long term new clients or customers then you have found an easy way 
 to do this!\r\nWe're running this breakfast group in a lovely venue...
 \r\nCOST: £15 including lunch  - payable prior to the meeting.\r\nB
 OOKING: Please REGISTER to take part here... \r\nMAP\r\n------------
 --------------------------\r\nFind more Omni Groups here on NiS...\r\
 nFor more information, please visit the Omni website here...\r\n\n\nF
 or more information visit https://networkinginsurrey.co.uk/events/omni
 -farnham-breakfast-live-1
DTSTART;TZID=Europe/London:20260130T103000
DTEND;TZID=Europe/London:20260130T120000
CATEGORIES:breakfast, farnham, b2b, omni
LOCATION:The Six Bells GU9 9QZ
WEBSITE:http://omnilocalbusinessnetworking.com/
URL:http://omnilocalbusinessnetworking.com/
CONTACT:07898 870 870
ORGANIZER;CN="John Gower":https://networkinginsurrey.co.uk/profile/Joh
 n
ATTACH;FMTTYPE="image/jpeg":https://storage.ning.com/topology/rest/1.0
 /file/get/10880789494?profile=original
ATTENDEE;ROLE=REQ-PARTICIPANT;PARTSTAT=ACCEPTED;RSVP=TRUE;CN="John Gow
 er":https://networkinginsurrey.co.uk/profile/John
END:VEVENT
END:VCALENDAR
