BEGIN:VCALENDAR
PRODID:NingEventWidget-v1
VERSION:2.0
METHOD:PUBLISH
BEGIN:VTIMEZONE
TZID:Europe/London
X-LIC-LOCATION:Europe/London
BEGIN:DAYLIGHT
TZOFFSETFROM:+0000
TZOFFSETTO:+0100
TZNAME:BST
DTSTART:19700329T010000
RRULE:FREQ=YEARLY;BYMONTH=3;BYDAY=-1SU
END:DAYLIGHT
BEGIN:STANDARD
TZOFFSETFROM:+0100
TZOFFSETTO:+0000
TZNAME:GMT
DTSTART:19701025T020000
RRULE:FREQ=YEARLY;BYMONTH=10;BYDAY=-1SU
END:STANDARD
END:VTIMEZONE
BEGIN:VEVENT
UID:4626108:Event:539802
DTSTAMP:20260423T072218Z
SUMMARY:Omni Farnborough Breakfast Live!
DESCRIPTION:Omni Farnborough at the Monkey Puzzle \r\n\r\nWe're back 
 to live meetings for this group, and at our original venue, the Monkey
  Puzzle pub in Farnborough.\r\nIf you own your own business or work in
  an environment where you need to find long term new clients or custom
 ers then you have found an easy way to do this!\r\nWe get booked up in
  advance, so please reserve your place early!!!\r\nCOST: £12 - payab
 le prior to the meeting.\r\nBOOKING: Please REGISTER to take part her
 e... \r\n--------------------------------------\r\nFind more Omni Net
 working Groups here on NiS...\r\nFor more information, please visit t
 he Omni website here...\n\nFor more information visit https://network
 inginsurrey.co.uk/events/omni-farnborough-breakfast-live-15
DTSTART;TZID=Europe/London:20231017T074500
DTEND;TZID=Europe/London:20231017T093000
CATEGORIES:breakfast, farnborough, b2b, omni
LOCATION:The Monkey Puzzle
WEBSITE:http://omnilocalbusinessnetworking.com/
URL:http://omnilocalbusinessnetworking.com/
CONTACT:07898 870 870
ORGANIZER:John Gower and Helen Wray
ATTACH;FMTTYPE="image/jpeg":https://storage.ning.com/topology/rest/1.0
 /file/get/10577740264?profile=original
ATTENDEE;ROLE=REQ-PARTICIPANT;PARTSTAT=ACCEPTED;RSVP=TRUE;CN="John Gow
 er":https://networkinginsurrey.co.uk/profile/John
END:VEVENT
END:VCALENDAR
