BEGIN:VCALENDAR
PRODID:NingEventWidget-v1
VERSION:2.0
METHOD:PUBLISH
BEGIN:VTIMEZONE
TZID:Europe/London
X-LIC-LOCATION:Europe/London
BEGIN:DAYLIGHT
TZOFFSETFROM:+0000
TZOFFSETTO:+0100
TZNAME:BST
DTSTART:19700329T010000
RRULE:FREQ=YEARLY;BYMONTH=3;BYDAY=-1SU
END:DAYLIGHT
BEGIN:STANDARD
TZOFFSETFROM:+0100
TZOFFSETTO:+0000
TZNAME:GMT
DTSTART:19701025T020000
RRULE:FREQ=YEARLY;BYMONTH=10;BYDAY=-1SU
END:STANDARD
END:VTIMEZONE
BEGIN:VEVENT
UID:4626108:Event:538741
DTSTAMP:20260421T204401Z
SUMMARY:Omni Croydon Breakfast Live!
DESCRIPTION:Omni Croydon Live! at The Coombe Lodge\nIf you own your ow
 n business or work in an environment where you need to find long term 
 new clients or customers then you have found an easy way to do this!\n
 We're back in person to our lovely venue at last...\nCOST: £6 - paya
 ble prior to the meeting.\nBOOKING: Please REGISTER to take part here
 ... \nMAP\n--------------------------------------\nFind more Omni Gro
 ups here on NiS...\nFor more information, please visit the Omni webs
 ite here...\n\n\nFor more information visit https://networkinginsurrey
 .co.uk/events/omni-croydon-breakfast-live
DTSTART;TZID=Europe/London:20230602T074500
DTEND;TZID=Europe/London:20230602T093000
CATEGORIES:breakfast, guildford, b2b, omni
LOCATION:The Coombe Lodge, Beefeater CR0 5RB
WEBSITE:http://omnilocalbusinessnetworking.com/
URL:http://omnilocalbusinessnetworking.com/
CONTACT:07898 870 870
ORGANIZER:John Gower and Judy Campbell
ATTACH;FMTTYPE="image/jpeg":https://storage.ning.com/topology/rest/1.0
 /file/get/10577741471?profile=original
ATTENDEE;ROLE=REQ-PARTICIPANT;PARTSTAT=ACCEPTED;RSVP=TRUE;CN="John Gow
 er":https://networkinginsurrey.co.uk/profile/John
END:VEVENT
END:VCALENDAR
