BEGIN:VCALENDAR
PRODID:NingEventWidget-v1
VERSION:2.0
METHOD:PUBLISH
BEGIN:VTIMEZONE
TZID:Europe/London
X-LIC-LOCATION:Europe/London
BEGIN:DAYLIGHT
TZOFFSETFROM:+0000
TZOFFSETTO:+0100
TZNAME:BST
DTSTART:19700329T010000
RRULE:FREQ=YEARLY;BYMONTH=3;BYDAY=-1SU
END:DAYLIGHT
BEGIN:STANDARD
TZOFFSETFROM:+0100
TZOFFSETTO:+0000
TZNAME:GMT
DTSTART:19701025T020000
RRULE:FREQ=YEARLY;BYMONTH=10;BYDAY=-1SU
END:STANDARD
END:VTIMEZONE
BEGIN:VEVENT
UID:4626108:Event:544369
DTSTAMP:20260421T053154Z
SUMMARY:Omni Caterham Breakfast Live!
DESCRIPTION:Omni Caterham Breakfast Live at the Lost Sheep\r\n\r\nWelc
 ome to The OMNI Business Development Network - a community of like-min
 ded business professionals dedicated to building long-term, productive
 , and truly mutually beneficial collaborative relationships.\r\nWith
  both physical and Zoom meetings, you can fit Omni around your busy sc
 hedule.\r\nIf you own your own business or work in an environment wher
 e you need to find long term new clients or customers then you have fo
 und an easy way to do this.\r\nCome and meet the Omni Team, Annabel 
 Broom and Sue Corrance.\r\nCOST: £12 - payable prior to the meeting.
 \r\nBOOKING: Please REGISTER to take part here... \r\nMAP\r\n-------
 -------------------------------\r\nFind more Omni Networking Groups h
 ere on NiS...\r\nFor more information, please visit the Omni Local we
 bsite here...\n\nFor more information visit https://networkinginsurrey
 .co.uk/events/omni-caterham-breakfast-live-284
DTSTART;TZID=Europe/London:20241211T074500
DTEND;TZID=Europe/London:20241211T093000
CATEGORIES:breakfast, warlingham, b2b, omni
LOCATION:The Lost Sheep CR3 6PH
WEBSITE:http://omnilocalbusinessnetworking.com/
URL:http://omnilocalbusinessnetworking.com/
CONTACT:07898 870 870
ORGANIZER:Annabel Broom and Sue Corrance
ATTACH;FMTTYPE="image/jpeg":https://storage.ning.com/topology/rest/1.0
 /file/get/10607159901?profile=original
ATTENDEE;ROLE=REQ-PARTICIPANT;PARTSTAT=ACCEPTED;RSVP=TRUE;CN="John Gow
 er":https://networkinginsurrey.co.uk/profile/John
END:VEVENT
END:VCALENDAR
