BEGIN:VCALENDAR
PRODID:NingEventWidget-v1
VERSION:2.0
METHOD:PUBLISH
BEGIN:VTIMEZONE
TZID:Europe/London
X-LIC-LOCATION:Europe/London
BEGIN:DAYLIGHT
TZOFFSETFROM:+0000
TZOFFSETTO:+0100
TZNAME:BST
DTSTART:19700329T010000
RRULE:FREQ=YEARLY;BYMONTH=3;BYDAY=-1SU
END:DAYLIGHT
BEGIN:STANDARD
TZOFFSETFROM:+0100
TZOFFSETTO:+0000
TZNAME:GMT
DTSTART:19701025T020000
RRULE:FREQ=YEARLY;BYMONTH=10;BYDAY=-1SU
END:STANDARD
END:VTIMEZONE
BEGIN:VEVENT
UID:4626108:Event:539687
DTSTAMP:20260421T184727Z
SUMMARY:Omni Breakfast Live! Fareham
DESCRIPTION:Omni Local Fareham Live! at Florence Court Care Home\n\nOu
 r OMNI Business Development Network groups are returning to live event
 s and our Fareham meetings are back in-person!\nIf you own your own bu
 siness or work in an environment where you need to find long term new 
 clients or customers then you have found an easy way to do this.\nCOST
 : £15 - payable prior to the meeting.\nBOOKING: Please REGISTER to 
 take part here... \nMAP\n--------------------------------------\nFind
  more Omni Local Networking Groups here on NiS...\nFor more informati
 on, please visit the Omni Local website here...\n\nFor more informati
 on visit https://networkinginsurrey.co.uk/events/omni-breakfast-live-f
 areham-11
DTSTART;TZID=Europe/London:20231107T074500
DTEND;TZID=Europe/London:20231107T093000
CATEGORIES:breakfast, kingston, b2b, omni
LOCATION:Florence Court Care Home PO15 5FF
WEBSITE:http://omnilocalbusinessnetworking.com/
URL:http://omnilocalbusinessnetworking.com/
CONTACT:07898 870 870
ORGANIZER:John Gower and Angela Anderson
ATTACH;FMTTYPE="image/jpeg":https://storage.ning.com/topology/rest/1.0
 /file/get/10880789494?profile=original
ATTENDEE;ROLE=REQ-PARTICIPANT;PARTSTAT=ACCEPTED;RSVP=TRUE;CN="John Gow
 er":https://networkinginsurrey.co.uk/profile/John
END:VEVENT
END:VCALENDAR
