BEGIN:VCALENDAR
PRODID:NingEventWidget-v1
VERSION:2.0
METHOD:PUBLISH
BEGIN:VTIMEZONE
TZID:Europe/London
X-LIC-LOCATION:Europe/London
BEGIN:DAYLIGHT
TZOFFSETFROM:+0000
TZOFFSETTO:+0100
TZNAME:BST
DTSTART:19700329T010000
RRULE:FREQ=YEARLY;BYMONTH=3;BYDAY=-1SU
END:DAYLIGHT
BEGIN:STANDARD
TZOFFSETFROM:+0100
TZOFFSETTO:+0000
TZNAME:GMT
DTSTART:19701025T020000
RRULE:FREQ=YEARLY;BYMONTH=10;BYDAY=-1SU
END:STANDARD
END:VTIMEZONE
BEGIN:VEVENT
UID:4626108:Event:100508
DTSTAMP:20260422T054329Z
SUMMARY:Official Fund-Raising  Book Launch Evening, Croydon
DESCRIPTION:The Greatest Goldmine – Your Story\r\n\r\nLooking for an
  answer to your unanswered prayers or breakthrough?\r\nAnnouncing Liv
 es Transformed – a new book co-authored by a group of unsung heroes
 .\r\nThe authors share their experiences, challenges and the steps the
 y took to make changes. This book addresses issues such as living with
  depression, singleness, letting go of past hurts, call to ministry, c
 areer transition, becoming your own boss, embarking on a charitable ca
 use, true success and purposeful living. It is a guide to anyone who i
 s looking for a fresh start, has given up on their dreams, is looking 
 for emotional healing, or wants career change and to stand out from th
 e crowd.\r\nYes, the Lives Transformed fund-raising book launch is o
 n Saturday 3rd November at the Hallmark Hotel Purley Way, Croydon.\r\n
 A percentage of the book sales will be going towards ‘Oral Africa Ca
 re’.\r\nOral Africa Care is a charity dedicated to providing supplie
 s and education to Africa. Oral Africa Care aims to provide dental sup
 plies, including toothbrushes, toothpastes, timers, leaflets and mouth
 wash to teenagers and younger children, whilst teaching the importance
  of oral health and awareness of tooth decay and cavities.\r\nOral Afr
 ica Care has successfully completed four campaigns in Ghana, Morocco, 
 Gambia and Nigeria, and so far the response has been overwhelming and 
 it is looking at running more campaigns. Being a non-profit organisati
 on, it relies on donation and support from people of all professions.\
 r\nAs a continent Africa has suffered with oral health problems. Afric
 ans naturally have strong supported bones in their teeth, but consiste
 ntly they have been using their own methods treatment. Smokers’ toot
 hbrushes are very traditional in Africa, but they have a very hard sur
 face. Many believe that if you brush hard, this will clean your teeth 
 and gums better … far from the truth. We are trying to raise awarene
 ss and teach that this only causes enamel loss and bleeding in the gum
 s. Using a soft to medium toothbrush is actually the correct technique
  and safer, especially for young children.\r\nBy attending the event, 
 you will:\r\n\r\nwalk out with a signed copy of Lives Transformedand 
 will have supported towards a great cause;\r\nbe inspired by the autho
 rs’ stories;\r\nhave the opportunity to share your story;\r\nbe chal
 lenged to take steps to transform your own life;\r\nhave a great oppor
 tunity to network and create meaningful relationships;\r\nform strateg
 ic connections.\r\n\r\nLight refreshments will be provided.\r\nTickets
  are at an affordable price, quality is not expensive but priceless.\r
 \n“Giving is about making a difference, without necessarily being pr
 esent” – Evelyn Pindura\r\n“For it is in giving we receive” 
  Francis of Assisi\r\n“We can change the world and make it a better
  place. It is in your hands to make it a better place” – Nelson Ma
 ndela\r\nBook Your Ticket(s) Now!\r\nCOST: £35\r\nBOOKING: Please CLI
 CK HERE to book\r\nMAP\n\nFor more information visit https://networkin
 ginsurrey.co.uk/events/official-fund-raising-new-book-launch
DTSTART;TZID=Europe/London:20181103T170000
DTEND;TZID=Europe/London:20181103T200000
CATEGORIES:fundraiser
LOCATION:Hallmark Hotel Croydon Aerodrome
WEBSITE:https://www.evelynpindura.com/fund-raising-book-launch-event
URL:https://www.evelynpindura.com/fund-raising-book-launch-event
CONTACT:
ORGANIZER;CN="Evelyn Pindura":https://networkinginsurrey.co.uk/profile
 /EvelynPindura
ATTACH;FMTTYPE="image/jpeg":http://storage.ning.com/topology/rest/1.0/
 file/get/2591476741?profile=original
ATTENDEE;ROLE=REQ-PARTICIPANT;PARTSTAT=ACCEPTED;RSVP=TRUE;CN="Evelyn P
 indura":https://networkinginsurrey.co.uk/profile/EvelynPindura
END:VEVENT
END:VCALENDAR
