BEGIN:VCALENDAR
PRODID:NingEventWidget-v1
VERSION:2.0
METHOD:PUBLISH
BEGIN:VTIMEZONE
TZID:Europe/London
X-LIC-LOCATION:Europe/London
BEGIN:DAYLIGHT
TZOFFSETFROM:+0000
TZOFFSETTO:+0100
TZNAME:BST
DTSTART:19700329T010000
RRULE:FREQ=YEARLY;BYMONTH=3;BYDAY=-1SU
END:DAYLIGHT
BEGIN:STANDARD
TZOFFSETFROM:+0100
TZOFFSETTO:+0000
TZNAME:GMT
DTSTART:19701025T020000
RRULE:FREQ=YEARLY;BYMONTH=10;BYDAY=-1SU
END:STANDARD
END:VTIMEZONE
BEGIN:VEVENT
UID:4626108:Event:267263
DTSTAMP:20260422T042345Z
SUMMARY:NEW VENUE: Omni Local Lunch, Bagshot
DESCRIPTION:Camberley & Frimley OMNI Local Business Lunch at The Roka\
 r\n\r\nThe Bagshot Bunch has moved! Come and join us at our great new 
 venue... and it's on Thursday, not Friday now.\r\nIf you own your own 
 business or work in an environment where you need to find long term ne
 w clients or customers then you have found an easy way to do this!\r\n
 Come and meet theÂ Omni Camberley Team: John GowerÂ & Jenny Thornton. 
 We get booked up in advance, so please reserve your place early!\r\nME
 ETING FORMATÂ -\r\n07:30Â - Open Networking & Registration Best to get
  there early! 08:00Â - Breakfast is served & Opening of the meeting fr
 om the Group Director 08:20Â - Start 1 Minute Round 08:40Â - 1-2-1 Mee
 ting Set Up Pick someone you might need to help your business or who c
 an help yours! 08:45Â - Time for Pitch Platform & Question Time -If yo
 u want to do this, you must be a member 09.00Â - Start 1-2-1 Meeting P
 lease remember this a chance to get to know someone!Â  Donâ€™t worry i
 f you have not spoken to everyone. Youâ€™ll get a chance later. 09:15Â
  - Members & Networking Events Please let us know if you have somethin
 g coming up. We will tell everyone. 09:20Â - Time for TT&Ts! Tips, Tes
 timonials and Thank You Time. Please feel free to tell everyone about 
 someone who has given you business or someone you have worked with! 09
 :30Â - Meeting Close\r\nFor more info - Please visitÂ our website here
 ...\r\nCOST:Â Â£13 meeting fee including buffet-style lunch (cash on t
 he door, pre-booking essential please!)\r\nBOOKING:Â PleaseÂ CLICK HER
 EÂ to register or emailÂ sales.omnilocal@gmail.comÂ to reserve your pl
 ace - or callÂ JohnÂ on 07898 870 870\r\nMAP \r\n---------------------
 -----------------\r\nFind more Omni Local Networking GroupsÂ here on N
 iS...\n\nFor more information visit https://networkinginsurrey.co.uk/e
 vents/new-venue-omni-local-lunch-bagshot-5
DTSTART;TZID=Europe/London:20191205T123000
DTEND;TZID=Europe/London:20191205T143000
CATEGORIES:lunch, bagshot, b2b, omni
LOCATION:Roka Mediterranean Restaurant GU19 5AX
WEBSITE:
URL:
CONTACT:
ORGANIZER:Jenny Thornton and John Gower
ATTACH;FMTTYPE="image/jpeg":http://storage.ning.com/topology/rest/1.0/
 file/get/250470414?profile=original
ATTENDEE;ROLE=REQ-PARTICIPANT;PARTSTAT=ACCEPTED;RSVP=TRUE;CN="John Gow
 er":https://networkinginsurrey.co.uk/profile/John
END:VEVENT
END:VCALENDAR
