BEGIN:VCALENDAR
PRODID:NingEventWidget-v1
VERSION:2.0
METHOD:PUBLISH
BEGIN:VTIMEZONE
TZID:Europe/London
X-LIC-LOCATION:Europe/London
BEGIN:DAYLIGHT
TZOFFSETFROM:+0000
TZOFFSETTO:+0100
TZNAME:BST
DTSTART:19700329T010000
RRULE:FREQ=YEARLY;BYMONTH=3;BYDAY=-1SU
END:DAYLIGHT
BEGIN:STANDARD
TZOFFSETFROM:+0100
TZOFFSETTO:+0000
TZNAME:GMT
DTSTART:19701025T020000
RRULE:FREQ=YEARLY;BYMONTH=10;BYDAY=-1SU
END:STANDARD
END:VTIMEZONE
BEGIN:VEVENT
UID:4626108:Event:532525
DTSTAMP:20260420T092012Z
SUMMARY:NEW VENUE #GuildfordBUZZ Morning Live! Guildford
DESCRIPTION:Business Buzz Morning at Zero Carbon\r\n\r\nJoin this vibr
 ant, award-winning, drop-in networking event and make new business con
 nections. At our new venue - Zero Carbon - we'll be meeting on the 4th
  Thursday of every month between 10.00 AM  & Noon, BUZZ is a must for
  local business owners and decision-makers.\r\nOur monthly business n
 etworking events will sit comfortably alongside all of your existing 
 networking commitments, with no subscription and our vast contact data
 base and marketing strategy we guarantee that you will meet people tha
 t are outside your current network enabling you to expand your connect
 ions to benefit your business.\r\nTake a look at here\r\n- local netw
 orking to form and establish relationships and trust - make new busin
 ess contacts - promote your services and products - meet like-minded b
 usiness people - exchange ideas and experiences with others - identify
  potential product or service providers - establish strategic alliance
 s and synergies\r\nHosted by Jane Tyson and @Phil Shepherd - surrey@
 business-buzz.org \r\nCOST:  £6 (including your tea/coffee during
  the event)\r\nBOOKING: Please click HERE to book via our app (firs
 t-timers, please take a few seconds to register with your email or Lin
 kedin  / Facebook ID)\r\nMAP\r\n-------------------------------------
 -\r\nVisit my web page here...\n\nFor more information visit https://n
 etworkinginsurrey.co.uk/events/new-venue-guildfordbuzz-morning-live-gu
 ildford
DTSTART;TZID=Europe/London:20220324T100000
DTEND;TZID=Europe/London:20220324T120000
CATEGORIES:networking, guildford, morninig, business_buzz
LOCATION:Zero Carbon GU1 4EH
WEBSITE:
URL:
CONTACT:07768 392686
ORGANIZER:Jane Tyson and Phil Shepherd
ATTACH;FMTTYPE="image/jpeg":https://storage.ning.com/topology/rest/1.0
 /file/get/3360768703?profile=original
ATTENDEE;ROLE=REQ-PARTICIPANT;PARTSTAT=ACCEPTED;RSVP=TRUE;CN="Keith Gr
 over, NiS Founder":https://networkinginsurrey.co.uk/profile/KeithGrove
 r
END:VEVENT
END:VCALENDAR
